FILENAME: O4811555.NWS.56475.tif
QUADRANGLE_NAME: CALX MOUNTAIN
QUADRANT: NW
WEST_LONGITUDE: -115 15 0.00000
EAST_LONGITUDE: -115 11 15.00000
NORTH_LATITUDE: 48 15 0.00000
SOUTH_LATITUDE: 48 11 15.00000
PRODUCTION_DATE: 1997 3 15
RASTER_ORDER: LEFT_RIGHT/TOP_BOTTOM
BAND_ORGANIZATION: SINGLE FILE
BAND_CONTENT: BLACK&WHITE
BAND_CONTENT: UNDEFINED
BAND_CONTENT: UNDEFINED
BITS_PER_PIXEL: 8
SAMPLES_AND_LINES: 5481 7665
HORIZONTAL_DATUM: NAD83
HORIZONTAL_COORDINATE_SYSTEM: UTM
COORDINATE_ZONE: 11
HORIZONTAL_UNITS: METERS
HORIZONTAL_RESOLUTION: 1.00000
SECONDARY_HORIZONTAL_DATUM: NAD27
XY_ORIGIN: 629533.00000 5345980.00000
SECONDARY_XY_ORIGIN: 629610.79000 5345767.58000
NATION: US
STATE: MT
NW_QUAD_CORNER_XY: 629907.99000 5345567.58000
NE_QUAD_CORNER_XY: 634547.38000 5345675.22000
SE_QUAD_CORNERY_XY: 634711.30000 5338728.72000
SW_QUAD_CORNER_XY: 630066.25000 5338621.06000
SECONDARY_NW_QUAD_XY: 629912.10000 5345348.69000
SECONDARY_NE_QUAD_XY: 634551.64000 5345456.34000
SECONDARY_SE_QUAD_XY: 634715.56000 5338509.85000
SECONDARY_SW_QUAD_XY: 630070.36000 5338402.18000
RMSE_XY: 3.50000
IMAGE_SOURCE: BLACK AND WHITE FILM
SOURCE_IMAGE_ID: NAPP 8420 243
SOURCE_IMAGE_DATE: 1995 8 20
SOURCE_IMAGE_ID: NAPP 8420 241
SOURCE_IMAGE_DATE: 1995 8 20
SOURCE_IMAGE_ID: NAPP 8420 164
SOURCE_IMAGE_DATE: 1995 8 20
SOURCE_DEM_DATE: 1997 3 15
AGENCY: WESTERN MAPPING CENTER (WMC)
PRODUCER: USFS
PRODUCTION_SYSTEM: DV2.6.3 10/9OV2.4 5/95
COMPRESSION: UNDEFINED
STANDARD_VERSION: 1996 12
METADATA_DATE: 1997 11 3
DATA_FILE_SIZE: 42017346
BYTE_COUNT: 5481
