FILENAME: O4811556.SES.56417.tif
QUADRANGLE_NAME: DEER CREEK
QUADRANT: SE
WEST_LONGITUDE: -115 3 45.00000
EAST_LONGITUDE: -115 0 0.00000
NORTH_LATITUDE: 48 11 15.00000
SOUTH_LATITUDE: 48 7 30.00000
PRODUCTION_DATE: 1997 3 19
RASTER_ORDER: LEFT_RIGHT/TOP_BOTTOM
BAND_ORGANIZATION: SINGLE FILE
BAND_CONTENT: BLACK&WHITE
BAND_CONTENT: UNDEFINED
BAND_CONTENT: UNDEFINED
BITS_PER_PIXEL: 8
SAMPLES_AND_LINES: 5500 7675
HORIZONTAL_DATUM: NAD83
HORIZONTAL_COORDINATE_SYSTEM: UTM
COORDINATE_ZONE: 11
HORIZONTAL_UNITS: METERS
HORIZONTAL_RESOLUTION: 1.00000
SECONDARY_HORIZONTAL_DATUM: NAD27
XY_ORIGIN: 643627.00000 5339375.00000
SECONDARY_XY_ORIGIN: 643704.60400 5339162.94200
NATION: US
STATE: MT
NW_QUAD_CORNER_XY: 644001.28700 5338955.43900
NE_QUAD_CORNER_XY: 648646.28600 5339074.44700
SE_QUAD_CORNERY_XY: 648826.99400 5332128.10200
SW_QUAD_CORNER_XY: 644176.34500 5332009.06600
SECONDARY_NW_QUAD_XY: 644005.83700 5338736.57500
SECONDARY_NE_QUAD_XY: 648650.98200 5338855.58600
SECONDARY_SE_QUAD_XY: 648831.69000 5331909.25500
SECONDARY_SW_QUAD_XY: 644180.89400 5331790.21500
RMSE_XY: 1.80000
IMAGE_SOURCE: BLACK AND WHITE FILM
SOURCE_IMAGE_ID: NAPP 8420 28
SOURCE_IMAGE_DATE: 1995 8 20
SOURCE_DEM_DATE: 1997 3 19
AGENCY: WESTERN MAPPING CENTER (WMC)
PRODUCER: USFS
PRODUCTION_SYSTEM: DV2.6.3 10/9OV2.4 5/95
COMPRESSION: UNDEFINED
STANDARD_VERSION: 1996 12
METADATA_DATE: 1997 11 3
DATA_FILE_SIZE: 42218000
BYTE_COUNT: 5500
