FILENAME: O4811557.NWS.56732.tif
QUADRANGLE_NAME: HERON
QUADRANT: NW
WEST_LONGITUDE: -116 0 0.00000
EAST_LONGITUDE: -115 56 15.00000
NORTH_LATITUDE: 48 7 30.00000
SOUTH_LATITUDE: 48 3 45.00000
PRODUCTION_DATE: 1997 2 20
RASTER_ORDER: LEFT_RIGHT/TOP_BOTTOM
BAND_ORGANIZATION: SINGLE FILE
BAND_CONTENT: BLACK&WHITE
BAND_CONTENT: UNDEFINED
BAND_CONTENT: UNDEFINED
BITS_PER_PIXEL: 8
SAMPLES_AND_LINES: 5425 7622
HORIZONTAL_DATUM: NAD83
HORIZONTAL_COORDINATE_SYSTEM: UTM
COORDINATE_ZONE: 11
HORIZONTAL_UNITS: METERS
HORIZONTAL_RESOLUTION: 1.00000
SECONDARY_HORIZONTAL_DATUM: NAD27
XY_ORIGIN: 574039.00000 5331045.00000
SECONDARY_XY_ORIGIN: 574115.82000 5330834.68000
NATION: US
STATE: MT
NW_QUAD_CORNER_XY: 574414.79000 5330677.13000
NE_QUAD_CORNER_XY: 579065.65000 5330739.46000
SE_QUAD_CORNERY_XY: 579161.53000 5323792.86000
SW_QUAD_CORNER_XY: 574505.03000 5323730.51000
SECONDARY_NW_QUAD_XY: 574417.13000 5330458.24000
SECONDARY_NE_QUAD_XY: 579068.14000 5330520.57000
SECONDARY_SE_QUAD_XY: 579164.03000 5323573.98000
SECONDARY_SW_QUAD_XY: 574507.38000 5323511.63000
RMSE_XY: 2.10000
IMAGE_SOURCE: BLACK AND WHITE FILM
SOURCE_IMAGE_ID: NAPP 8419 96
SOURCE_IMAGE_DATE: 1995 8 21
SOURCE_IMAGE_ID: NAPP 8419 95
SOURCE_IMAGE_DATE: 1995 8 21
SOURCE_DEM_DATE: 1997 2 20
AGENCY: WESTERN MAPPING CENTER (WMC)
PRODUCER: USFS
PRODUCTION_SYSTEM: DV2.6.3 10/9OV2.4 5/95
COMPRESSION: UNDEFINED
STANDARD_VERSION: 1996 12
METADATA_DATE: 1997 11 2
DATA_FILE_SIZE: 41354775
BYTE_COUNT: 5425
