FILENAME: O4811558.SWS.56691.tif
QUADRANGLE_NAME: SMEADS BENCH
QUADRANT: SW
WEST_LONGITUDE: -115 52 30.00000
EAST_LONGITUDE: -115 48 45.00000
NORTH_LATITUDE: 48 3 45.00000
SOUTH_LATITUDE: 48 0 0.00000
PRODUCTION_DATE: 1997 2 27
RASTER_ORDER: LEFT_RIGHT/TOP_BOTTOM
BAND_ORGANIZATION: SINGLE FILE
BAND_CONTENT: BLACK&WHITE
BAND_CONTENT: UNDEFINED
BAND_CONTENT: UNDEFINED
BITS_PER_PIXEL: 8
SAMPLES_AND_LINES: 5441 7630
HORIZONTAL_DATUM: NAD83
HORIZONTAL_COORDINATE_SYSTEM: UTM
COORDINATE_ZONE: 11
HORIZONTAL_UNITS: METERS
HORIZONTAL_RESOLUTION: 1.00000
SECONDARY_HORIZONTAL_DATUM: NAD27
XY_ORIGIN: 583442.00000 5324234.00000
SECONDARY_XY_ORIGIN: 583519.33000 5324023.78000
NATION: US
STATE: MT
NW_QUAD_CORNER_XY: 583818.03000 5323859.00000
NE_QUAD_CORNER_XY: 588474.51000 5323928.91000
SE_QUAD_CORNERY_XY: 588581.57000 5316982.41000
SW_QUAD_CORNER_XY: 583919.45000 5316912.48000
SECONDARY_NW_QUAD_XY: 583820.67000 5323640.12000
SECONDARY_NE_QUAD_XY: 588477.30000 5323710.03000
SECONDARY_SE_QUAD_XY: 588584.36000 5316763.55000
SECONDARY_SW_QUAD_XY: 583922.09000 5316693.62000
RMSE_XY: 3.40000
IMAGE_SOURCE: BLACK AND WHITE FILM
SOURCE_IMAGE_ID: NAPP 8421 207
SOURCE_IMAGE_DATE: 1995 8 21
SOURCE_IMAGE_ID: NAPP 8421 147
SOURCE_IMAGE_DATE: 1995 8 21
SOURCE_DEM_DATE: 1997 2 27
AGENCY: WESTERN MAPPING CENTER (WMC)
PRODUCER: USFS
PRODUCTION_SYSTEM: DV2.6.3 10/9OV2.4 5/95
COMPRESSION: UNDEFINED
STANDARD_VERSION: 1996 12
METADATA_DATE: 1997 11 2
DATA_FILE_SIZE: 41520271
BYTE_COUNT: 5441
