FILENAME: O4811558.NES.56670.tif
QUADRANGLE_NAME: SMEADS BENCH
QUADRANT: NE
WEST_LONGITUDE: -115 48 45.00000
EAST_LONGITUDE: -115 45 0.00000
NORTH_LATITUDE: 48 7 30.00000
SOUTH_LATITUDE: 48 3 45.00000
PRODUCTION_DATE: 1997 2 27
RASTER_ORDER: LEFT_RIGHT/TOP_BOTTOM
BAND_ORGANIZATION: SINGLE FILE
BAND_CONTENT: BLACK&WHITE
BAND_CONTENT: UNDEFINED
BAND_CONTENT: UNDEFINED
BITS_PER_PIXEL: 8
SAMPLES_AND_LINES: 5441 7633
HORIZONTAL_DATUM: NAD83
HORIZONTAL_COORDINATE_SYSTEM: UTM
COORDINATE_ZONE: 11
HORIZONTAL_UNITS: METERS
HORIZONTAL_RESOLUTION: 1.00000
SECONDARY_HORIZONTAL_DATUM: NAD27
XY_ORIGIN: 587992.00000 5331254.00000
SECONDARY_XY_ORIGIN: 588069.11000 5331043.24000
NATION: US
STATE: MT
NW_QUAD_CORNER_XY: 588367.35000 5330875.48000
NE_QUAD_CORNER_XY: 593018.18000 5330949.15000
SE_QUAD_CORNERY_XY: 593130.99000 5324002.60000
SW_QUAD_CORNER_XY: 588474.51000 5323928.91000
SECONDARY_NW_QUAD_XY: 588370.14000 5330656.59000
SECONDARY_NE_QUAD_XY: 593021.11000 5330730.26000
SECONDARY_SE_QUAD_XY: 593133.92000 5323783.72000
SECONDARY_SW_QUAD_XY: 588477.30000 5323710.03000
RMSE_XY: 3.40000
IMAGE_SOURCE: BLACK AND WHITE FILM
SOURCE_IMAGE_ID: NAPP 8421 149
SOURCE_IMAGE_DATE: 1995 8 20
SOURCE_IMAGE_ID: NAPP 8421 206
SOURCE_IMAGE_DATE: 1995 8 20
SOURCE_DEM_DATE: 1997 2 27
AGENCY: WESTERN MAPPING CENTER (WMC)
PRODUCER: USFS
PRODUCTION_SYSTEM: DV2.6.3 10/9OV2.4 5/95
COMPRESSION: UNDEFINED
STANDARD_VERSION: 1996 12
METADATA_DATE: 1997 11 2
DATA_FILE_SIZE: 41536594
BYTE_COUNT: 5441
