FILENAME: O4811559.SWS.56647.tif
QUADRANGLE_NAME: ELEPHANT PEAK
QUADRANT: SW
WEST_LONGITUDE: -115 45 0.00000
EAST_LONGITUDE: -115 41 15.00000
NORTH_LATITUDE: 48 3 45.00000
SOUTH_LATITUDE: 48 0 0.00000
PRODUCTION_DATE: 1997 3 4
RASTER_ORDER: LEFT_RIGHT/TOP_BOTTOM
BAND_ORGANIZATION: SINGLE FILE
BAND_CONTENT: BLACK&WHITE
BAND_CONTENT: UNDEFINED
BAND_CONTENT: UNDEFINED
BITS_PER_PIXEL: 8
SAMPLES_AND_LINES: 5453 7637
HORIZONTAL_DATUM: NAD83
HORIZONTAL_COORDINATE_SYSTEM: UTM
COORDINATE_ZONE: 11
HORIZONTAL_UNITS: METERS
HORIZONTAL_RESOLUTION: 1.00000
SECONDARY_HORIZONTAL_DATUM: NAD27
XY_ORIGIN: 592755.00000 5324385.00000
SECONDARY_XY_ORIGIN: 592832.53000 5324174.49000
NATION: US
STATE: MT
NW_QUAD_CORNER_XY: 593130.99000 5324002.60000
NE_QUAD_CORNER_XY: 597787.45000 5324080.07000
SE_QUAD_CORNERY_XY: 597905.78000 5317133.60000
SW_QUAD_CORNER_XY: 593243.68000 5317056.12000
SECONDARY_NW_QUAD_XY: 593133.92000 5323783.72000
SECONDARY_NE_QUAD_XY: 597790.53000 5323861.20000
SECONDARY_SE_QUAD_XY: 597908.86000 5316914.75000
SECONDARY_SW_QUAD_XY: 593246.62000 5316837.26000
RMSE_XY: 2.20000
IMAGE_SOURCE: BLACK AND WHITE FILM
SOURCE_IMAGE_ID: NAPP 8419 22
SOURCE_IMAGE_DATE: 1995 8 21
SOURCE_IMAGE_ID: NAPP 8419 24
SOURCE_IMAGE_DATE: 1995 8 21
SOURCE_DEM_DATE: 1997 3 4
AGENCY: WESTERN MAPPING CENTER (WMC)
PRODUCER: USFS
PRODUCTION_SYSTEM: DV2.6.3 10/9OV2.4 5/95
COMPRESSION: UNDEFINED
STANDARD_VERSION: 1996 12
METADATA_DATE: 1997 11 2
DATA_FILE_SIZE: 41650014
BYTE_COUNT: 5453
