FILENAME: O4811559.NES.56624.tif
QUADRANGLE_NAME: ELEPHANT PEAK
QUADRANT: NE
WEST_LONGITUDE: -115 41 15.00000
EAST_LONGITUDE: -115 37 30.00000
NORTH_LATITUDE: 48 7 30.00000
SOUTH_LATITUDE: 48 3 45.00000
PRODUCTION_DATE: 1997 3 4
RASTER_ORDER: LEFT_RIGHT/TOP_BOTTOM
BAND_ORGANIZATION: SINGLE FILE
BAND_CONTENT: BLACK&WHITE
BAND_CONTENT: UNDEFINED
BAND_CONTENT: UNDEFINED
BITS_PER_PIXEL: 8
SAMPLES_AND_LINES: 5453 7640
HORIZONTAL_DATUM: NAD83
HORIZONTAL_COORDINATE_SYSTEM: UTM
COORDINATE_ZONE: 11
HORIZONTAL_UNITS: METERS
HORIZONTAL_RESOLUTION: 1.00000
SECONDARY_HORIZONTAL_DATUM: NAD27
XY_ORIGIN: 597294.00000 5331413.00000
SECONDARY_XY_ORIGIN: 597371.42000 5331201.87000
NATION: US
STATE: MT
NW_QUAD_CORNER_XY: 597669.00000 5331026.60000
NE_QUAD_CORNER_XY: 602319.81000 5331107.84000
SE_QUAD_CORNERY_XY: 602443.90000 5324161.32000
SW_QUAD_CORNER_XY: 597787.45000 5324080.07000
SECONDARY_NW_QUAD_XY: 597672.08000 5330807.72000
SECONDARY_NE_QUAD_XY: 602323.04000 5330888.96000
SECONDARY_SE_QUAD_XY: 602447.13000 5323942.45000
SECONDARY_SW_QUAD_XY: 597790.53000 5323861.20000
RMSE_XY: 2.20000
IMAGE_SOURCE: BLACK AND WHITE FILM
SOURCE_IMAGE_ID: NAPP 8421 122
SOURCE_IMAGE_DATE: 1995 8 20
SOURCE_IMAGE_ID: NAPP 8421 121
SOURCE_IMAGE_DATE: 1995 8 20
SOURCE_IMAGE_ID: NAPP 8421 123
SOURCE_IMAGE_DATE: 1995 8 20
SOURCE_DEM_DATE: 1997 3 4
AGENCY: WESTERN MAPPING CENTER (WMC)
PRODUCER: USFS
PRODUCTION_SYSTEM: DV2.6.3 10/9OV2.4 5/95
COMPRESSION: UNDEFINED
STANDARD_VERSION: 1996 12
METADATA_DATE: 1997 11 2
DATA_FILE_SIZE: 41666373
BYTE_COUNT: 5453
