FILENAME: O4811560.SWS.56599.tif
QUADRANGLE_NAME: HOWARD LAKE
QUADRANT: SW
WEST_LONGITUDE: -115 37 30.00000
EAST_LONGITUDE: -115 33 45.00000
NORTH_LATITUDE: 48 3 45.00000
SOUTH_LATITUDE: 48 0 0.00000
PRODUCTION_DATE: 1997 3 18
RASTER_ORDER: LEFT_RIGHT/TOP_BOTTOM
BAND_ORGANIZATION: SINGLE FILE
BAND_CONTENT: BLACK&WHITE
BAND_CONTENT: UNDEFINED
BAND_CONTENT: UNDEFINED
BITS_PER_PIXEL: 8
SAMPLES_AND_LINES: 5465 7643
HORIZONTAL_DATUM: NAD83
HORIZONTAL_COORDINATE_SYSTEM: UTM
COORDINATE_ZONE: 11
HORIZONTAL_UNITS: METERS
HORIZONTAL_RESOLUTION: 1.00000
SECONDARY_HORIZONTAL_DATUM: NAD27
XY_ORIGIN: 602068.00000 5324551.00000
SECONDARY_XY_ORIGIN: 602146.01000 5324340.10000
NATION: US
STATE: MT
NW_QUAD_CORNER_XY: 602443.90000 5324161.32000
NE_QUAD_CORNER_XY: 607100.34000 5324246.35000
SE_QUAD_CORNERY_XY: 607229.94000 5317299.93000
SW_QUAD_CORNER_XY: 602567.87000 5317214.88000
SECONDARY_NW_QUAD_XY: 602447.13000 5323942.45000
SECONDARY_NE_QUAD_XY: 607103.71000 5324027.49000
SECONDARY_SE_QUAD_XY: 607233.32000 5317081.08000
SECONDARY_SW_QUAD_XY: 602571.10000 5316996.02000
RMSE_XY: 3.30000
IMAGE_SOURCE: BLACK AND WHITE FILM
SOURCE_IMAGE_ID: NAPP 8421 85
SOURCE_IMAGE_DATE: 1995 8 20
SOURCE_IMAGE_ID: NAPP 8421 86
SOURCE_IMAGE_DATE: 1995 8 20
SOURCE_DEM_DATE: 1997 3 18
AGENCY: WESTERN MAPPING CENTER (WMC)
PRODUCER: USFS
PRODUCTION_SYSTEM: DV2.6.3 10/9OV2.4 5/95
COMPRESSION: UNDEFINED
STANDARD_VERSION: 1996 12
METADATA_DATE: 1997 11 2
DATA_FILE_SIZE: 41774460
BYTE_COUNT: 5465
