FILENAME: O4811560.NES.56578.tif
QUADRANGLE_NAME: HOWARD LAKE
QUADRANT: NE
WEST_LONGITUDE: -115 33 45.00000
EAST_LONGITUDE: -115 30 0.00000
NORTH_LATITUDE: 48 7 30.00000
SOUTH_LATITUDE: 48 3 45.00000
PRODUCTION_DATE: 1997 3 18
RASTER_ORDER: LEFT_RIGHT/TOP_BOTTOM
BAND_ORGANIZATION: SINGLE FILE
BAND_CONTENT: BLACK&WHITE
BAND_CONTENT: UNDEFINED
BAND_CONTENT: UNDEFINED
BITS_PER_PIXEL: 8
SAMPLES_AND_LINES: 5464 7646
HORIZONTAL_DATUM: NAD83
HORIZONTAL_COORDINATE_SYSTEM: UTM
COORDINATE_ZONE: 11
HORIZONTAL_UNITS: METERS
HORIZONTAL_RESOLUTION: 1.00000
SECONDARY_HORIZONTAL_DATUM: NAD27
XY_ORIGIN: 606595.00000 5331583.00000
SECONDARY_XY_ORIGIN: 606672.00000 5331372.00000
NATION: US
STATE: MT
NW_QUAD_CORNER_XY: 606970.53400 5331192.88800
NE_QUAD_CORNER_XY: 611621.31500 5331281.67900
SE_QUAD_CORNERY_XY: 611756.69200 5324335.20400
SW_QUAD_CORNER_XY: 607100.26800 5324246.39200
SECONDARY_NW_QUAD_XY: 606973.90900 5330974.01100
SECONDARY_NE_QUAD_XY: 611624.83700 5331062.80500
SECONDARY_SE_QUAD_XY: 611760.21300 5324116.34300
SECONDARY_SW_QUAD_XY: 607103.64300 5324027.52800
RMSE_XY: 2.40000
IMAGE_SOURCE: BLACK AND WHITE FILM
SOURCE_IMAGE_ID: NAPP 8422 62
SOURCE_IMAGE_DATE: 1995 7 28
SOURCE_DEM_DATE: 1997 3 18
AGENCY: WESTERN MAPPING CENTER (WMC)
PRODUCER: USFS
PRODUCTION_SYSTEM: DV2.6.3 10/9OV2.4 5/95
COMPRESSION: UNDEFINED
STANDARD_VERSION: 1996 12
METADATA_DATE: 1997 11 2
DATA_FILE_SIZE: 41783208
BYTE_COUNT: 5464
