FILENAME: O4811561.SWS.56555.tif
QUADRANGLE_NAME: BARREN PEAK
QUADRANT: SW
WEST_LONGITUDE: -115 30 0.00000
EAST_LONGITUDE: -115 26 15.00000
NORTH_LATITUDE: 48 3 45.00000
SOUTH_LATITUDE: 48 0 0.00000
PRODUCTION_DATE: 1997 3 24
RASTER_ORDER: LEFT_RIGHT/TOP_BOTTOM
BAND_ORGANIZATION: SINGLE FILE
BAND_CONTENT: BLACK&WHITE
BAND_CONTENT: UNDEFINED
BAND_CONTENT: UNDEFINED
BITS_PER_PIXEL: 8
SAMPLES_AND_LINES: 5472 7650
HORIZONTAL_DATUM: NAD83
HORIZONTAL_COORDINATE_SYSTEM: UTM
COORDINATE_ZONE: 11
HORIZONTAL_UNITS: METERS
HORIZONTAL_RESOLUTION: 1.00000
SECONDARY_HORIZONTAL_DATUM: NAD27
XY_ORIGIN: 611381.00000 5324729.00000
SECONDARY_XY_ORIGIN: 611459.49300 5324517.70200
NATION: US
STATE: MT
NW_QUAD_CORNER_XY: 611756.69200 5324335.20400
NE_QUAD_CORNER_XY: 616413.10100 5324427.79700
SE_QUAD_CORNERY_XY: 616553.98200 5317481.41300
SW_QUAD_CORNER_XY: 611891.93500 5317388.79900
SECONDARY_NW_QUAD_XY: 611760.21300 5324116.34300
SECONDARY_NE_QUAD_XY: 616416.77000 5324208.93900
SECONDARY_SE_QUAD_XY: 616557.65000 5317262.57000
SECONDARY_SW_QUAD_XY: 611895.45600 5317169.95300
RMSE_XY: 2.70000
IMAGE_SOURCE: BLACK AND WHITE FILM
SOURCE_IMAGE_ID: NAPP 8423 7
SOURCE_IMAGE_DATE: 1995 9 12
SOURCE_DEM_DATE: 1997 3 24
AGENCY: WESTERN MAPPING CENTER (WMC)
PRODUCER: USFS
PRODUCTION_SYSTEM: DV2.6.3 10/9OV2.4 5/95
COMPRESSION: UNDEFINED
STANDARD_VERSION: 1996 12
METADATA_DATE: 1997 11 3
DATA_FILE_SIZE: 41866272
BYTE_COUNT: 5472
