FILENAME: O4811561.SES.56533.tif
QUADRANGLE_NAME: BARREN PEAK
QUADRANT: SE
WEST_LONGITUDE: -115 26 15.00000
EAST_LONGITUDE: -115 22 30.00000
NORTH_LATITUDE: 48 3 45.00000
SOUTH_LATITUDE: 48 0 0.00000
PRODUCTION_DATE: 1997 3 24
RASTER_ORDER: LEFT_RIGHT/TOP_BOTTOM
BAND_ORGANIZATION: SINGLE FILE
BAND_CONTENT: BLACK&WHITE
BAND_CONTENT: UNDEFINED
BAND_CONTENT: UNDEFINED
BITS_PER_PIXEL: 8
SAMPLES_AND_LINES: 5480 7654
HORIZONTAL_DATUM: NAD83
HORIZONTAL_COORDINATE_SYSTEM: UTM
COORDINATE_ZONE: 11
HORIZONTAL_UNITS: METERS
HORIZONTAL_RESOLUTION: 1.00000
SECONDARY_HORIZONTAL_DATUM: NAD27
XY_ORIGIN: 616037.00000 5324825.00000
SECONDARY_XY_ORIGIN: 616115.44600 5324613.69500
NATION: US
STATE: MT
NW_QUAD_CORNER_XY: 616413.10100 5324427.79700
NE_QUAD_CORNER_XY: 621069.49600 5324524.17100
SE_QUAD_CORNERY_XY: 621216.01400 5317577.80900
SW_QUAD_CORNER_XY: 616553.98200 5317481.41300
SECONDARY_NW_QUAD_XY: 616416.77000 5324208.93900
SECONDARY_NE_QUAD_XY: 621073.31100 5324305.31600
SECONDARY_SE_QUAD_XY: 621219.82900 5317358.96900
SECONDARY_SW_QUAD_XY: 616557.65000 5317262.57000
RMSE_XY: 3.40000
IMAGE_SOURCE: BLACK AND WHITE FILM
SOURCE_IMAGE_ID: NAPP 8421 20
SOURCE_IMAGE_DATE: 1995 8 20
SOURCE_DEM_DATE: 1997 3 24
AGENCY: WESTERN MAPPING CENTER (WMC)
PRODUCER: USFS
PRODUCTION_SYSTEM: DV2.6.3 10/9OV2.4 5/95
COMPRESSION: UNDEFINED
STANDARD_VERSION: 1996 12
METADATA_DATE: 1997 11 3
DATA_FILE_SIZE: 41949400
BYTE_COUNT: 5480
