FILENAME: O4811561.NWS.56556.tif
QUADRANGLE_NAME: BARREN PEAK
QUADRANT: NW
WEST_LONGITUDE: -115 30 0.00000
EAST_LONGITUDE: -115 26 15.00000
NORTH_LATITUDE: 48 7 30.00000
SOUTH_LATITUDE: 48 3 45.00000
PRODUCTION_DATE: 1997 3 24
RASTER_ORDER: LEFT_RIGHT/TOP_BOTTOM
BAND_ORGANIZATION: SINGLE FILE
BAND_CONTENT: BLACK&WHITE
BAND_CONTENT: UNDEFINED
BAND_CONTENT: UNDEFINED
BITS_PER_PIXEL: 8
SAMPLES_AND_LINES: 5468 7649
HORIZONTAL_DATUM: NAD83
HORIZONTAL_COORDINATE_SYSTEM: UTM
COORDINATE_ZONE: 11
HORIZONTAL_UNITS: METERS
HORIZONTAL_RESOLUTION: 1.00000
SECONDARY_HORIZONTAL_DATUM: NAD27
XY_ORIGIN: 611246.00000 5331675.00000
SECONDARY_XY_ORIGIN: 611324.06700 5331463.22800
NATION: US
STATE: MT
NW_QUAD_CORNER_XY: 611621.31500 5331281.67900
NE_QUAD_CORNER_XY: 616272.08100 5331374.25100
SE_QUAD_CORNERY_XY: 616413.10100 5324427.79700
SW_QUAD_CORNER_XY: 611756.69200 5324335.20400
SECONDARY_NW_QUAD_XY: 611624.83700 5331062.80500
SECONDARY_NE_QUAD_XY: 616275.75000 5331155.37900
SECONDARY_SE_QUAD_XY: 616416.77000 5324208.93900
SECONDARY_SW_QUAD_XY: 611760.21300 5324116.34300
RMSE_XY: 2.60000
IMAGE_SOURCE: BLACK AND WHITE FILM
SOURCE_IMAGE_ID: NAPP 8423 9
SOURCE_IMAGE_DATE: 1995 9 12
SOURCE_DEM_DATE: 1997 3 24
AGENCY: WESTERN MAPPING CENTER (WMC)
PRODUCER: USFS
PRODUCTION_SYSTEM: DV2.6.3 10/9OV2.4 5/95
COMPRESSION: UNDEFINED
STANDARD_VERSION: 1996 12
METADATA_DATE: 1997 11 2
DATA_FILE_SIZE: 41830200
BYTE_COUNT: 5468
