FILENAME: O4811562.NES.56493.tif
QUADRANGLE_NAME: KENELTY MOUNTAIN
QUADRANT: NE
WEST_LONGITUDE: -115 18 45.00000
EAST_LONGITUDE: -115 15 0.00000
NORTH_LATITUDE: 48 7 30.00000
SOUTH_LATITUDE: 48 3 45.00000
PRODUCTION_DATE: 1997 3 27
RASTER_ORDER: LEFT_RIGHT/TOP_BOTTOM
BAND_ORGANIZATION: SINGLE FILE
BAND_CONTENT: BLACK&WHITE
BAND_CONTENT: UNDEFINED
BAND_CONTENT: UNDEFINED
BITS_PER_PIXEL: 8
SAMPLES_AND_LINES: 5485 7662
HORIZONTAL_DATUM: NAD83
HORIZONTAL_COORDINATE_SYSTEM: UTM
COORDINATE_ZONE: 11
HORIZONTAL_UNITS: METERS
HORIZONTAL_RESOLUTION: 1.00000
SECONDARY_HORIZONTAL_DATUM: NAD27
XY_ORIGIN: 625198.00000 5331980.00000
SECONDARY_XY_ORIGIN: 625276.09000 5331768.30000
NATION: US
STATE: MT
NW_QUAD_CORNER_XY: 625573.64000 5331570.69000
NE_QUAD_CORNER_XY: 630224.36000 5331674.60000
SE_QUAD_CORNERY_XY: 630382.31000 5324728.22000
SW_QUAD_CORNER_XY: 625725.94000 5324624.28000
SECONDARY_NW_QUAD_XY: 625577.60000 5331351.83000
SECONDARY_NE_QUAD_XY: 630228.46000 5331455.74000
SECONDARY_SE_QUAD_XY: 630386.42000 5324509.37000
SECONDARY_SW_QUAD_XY: 625729.90000 5324405.43000
RMSE_XY: 4.40000
IMAGE_SOURCE: BLACK AND WHITE FILM
SOURCE_IMAGE_ID: NAPP 8418 89
SOURCE_IMAGE_DATE: 1995 8 5
SOURCE_IMAGE_ID: NAPP 8418 91
SOURCE_IMAGE_DATE: 1995 8 5
SOURCE_DEM_DATE: 1997 3 27
AGENCY: WESTERN MAPPING CENTER (WMC)
PRODUCER: USFS
PRODUCTION_SYSTEM: DV2.6.3 10/9OV2.4 5/95
COMPRESSION: UNDEFINED
STANDARD_VERSION: 1996 12
METADATA_DATE: 1997 11 3
DATA_FILE_SIZE: 42031555
BYTE_COUNT: 5485
