FILENAME: O4811563.SES.56452.tif
QUADRANGLE_NAME: LOON LAKE
QUADRANT: SE
WEST_LONGITUDE: -115 11 15.00000
EAST_LONGITUDE: -115 7 30.00000
NORTH_LATITUDE: 48 3 45.00000
SOUTH_LATITUDE: 48 0 0.00000
PRODUCTION_DATE: 1997 3 15
RASTER_ORDER: LEFT_RIGHT/TOP_BOTTOM
BAND_ORGANIZATION: SINGLE FILE
BAND_CONTENT: BLACK&WHITE
BAND_CONTENT: UNDEFINED
BAND_CONTENT: UNDEFINED
BITS_PER_PIXEL: 8
SAMPLES_AND_LINES: 5500 7668
HORIZONTAL_DATUM: NAD83
HORIZONTAL_COORDINATE_SYSTEM: UTM
COORDINATE_ZONE: 11
HORIZONTAL_UNITS: METERS
HORIZONTAL_RESOLUTION: 1.00000
SECONDARY_HORIZONTAL_DATUM: NAD27
XY_ORIGIN: 634664.00000 5325248.00000
SECONDARY_XY_ORIGIN: 634742.07100 5325036.69200
NATION: US
STATE: MT
NW_QUAD_CORNER_XY: 635038.58600 5324835.98000
NE_QUAD_CORNER_XY: 639694.91700 5324947.48000
SE_QUAD_CORNERY_XY: 639863.98900 5318001.21500
SW_QUAD_CORNER_XY: 635202.02000 5317889.69000
SECONDARY_NW_QUAD_XY: 635042.84200 5324617.13500
SECONDARY_NE_QUAD_XY: 639699.31900 5324728.63800
SECONDARY_SE_QUAD_XY: 639868.39100 5317782.38800
SECONDARY_SW_QUAD_XY: 635206.27500 5317670.85900
RMSE_XY: 1.80000
IMAGE_SOURCE: BLACK AND WHITE FILM
SOURCE_IMAGE_ID: NAPP 8420 170
SOURCE_IMAGE_DATE: 1995 8 20
SOURCE_DEM_DATE: 1997 3 15
AGENCY: WESTERN MAPPING CENTER (WMC)
PRODUCER: USFS
PRODUCTION_SYSTEM: DV2.6.3 10/9OV2.4 5/95
COMPRESSION: UNDEFINED
STANDARD_VERSION: 1996 12
METADATA_DATE: 1997 11 3
DATA_FILE_SIZE: 42179500
BYTE_COUNT: 5500
