FILENAME: O4811564.SES.56415.tif
QUADRANGLE_NAME: THOMPSON LAKES
QUADRANT: SE
WEST_LONGITUDE: -115 3 45.00000
EAST_LONGITUDE: -115 0 0.00000
NORTH_LATITUDE: 48 3 45.00000
SOUTH_LATITUDE: 48 0 0.00000
PRODUCTION_DATE: 1997 3 20
RASTER_ORDER: LEFT_RIGHT/TOP_BOTTOM
BAND_ORGANIZATION: SINGLE FILE
BAND_CONTENT: BLACK&WHITE
BAND_CONTENT: UNDEFINED
BAND_CONTENT: UNDEFINED
BITS_PER_PIXEL: 8
SAMPLES_AND_LINES: 5512 7676
HORIZONTAL_DATUM: NAD83
HORIZONTAL_COORDINATE_SYSTEM: UTM
COORDINATE_ZONE: 11
HORIZONTAL_UNITS: METERS
HORIZONTAL_RESOLUTION: 1.00000
SECONDARY_HORIZONTAL_DATUM: NAD27
XY_ORIGIN: 643977.00000 5325483.00000
SECONDARY_XY_ORIGIN: 644054.71000 5325271.64100
NATION: US
STATE: MT
NW_QUAD_CORNER_XY: 644351.22900 5325062.76100
NE_QUAD_CORNER_XY: 649007.52400 5325181.82500
SE_QUAD_CORNERY_XY: 649187.87500 5318235.61400
SW_QUAD_CORNER_XY: 644525.94100 5318116.52300
SECONDARY_NW_QUAD_XY: 644355.77800 5324843.92300
SECONDARY_NE_QUAD_XY: 649012.21900 5324962.99100
SECONDARY_SE_QUAD_XY: 649192.57000 5318016.79400
SECONDARY_SW_QUAD_XY: 644530.48900 5317897.70000
RMSE_XY: 1.60000
IMAGE_SOURCE: BLACK AND WHITE FILM
SOURCE_IMAGE_ID: NAPP 8420 32
SOURCE_IMAGE_DATE: 1995 8 20
SOURCE_DEM_DATE: 1997 3 20
AGENCY: WESTERN MAPPING CENTER (WMC)
PRODUCER: USFS
PRODUCTION_SYSTEM: DV2.6.3 10/9OV2.4 5/95
COMPRESSION: UNDEFINED
STANDARD_VERSION: 1996 12
METADATA_DATE: 1997 11 3
DATA_FILE_SIZE: 42315624
BYTE_COUNT: 5512
