FILENAME: O4811564.NWS.56433.tif
QUADRANGLE_NAME: THOMPSON LAKES
QUADRANT: NW
WEST_LONGITUDE: -115 7 30.00000
EAST_LONGITUDE: -115 3 45.00000
NORTH_LATITUDE: 48 7 30.00000
SOUTH_LATITUDE: 48 3 45.00000
PRODUCTION_DATE: 1997 3 19
RASTER_ORDER: LEFT_RIGHT/TOP_BOTTOM
BAND_ORGANIZATION: SINGLE FILE
BAND_CONTENT: BLACK&WHITE
BAND_CONTENT: UNDEFINED
BAND_CONTENT: UNDEFINED
BITS_PER_PIXEL: 8
SAMPLES_AND_LINES: 5501 7673
HORIZONTAL_DATUM: NAD83
HORIZONTAL_COORDINATE_SYSTEM: UTM
COORDINATE_ZONE: 11
HORIZONTAL_UNITS: METERS
HORIZONTAL_RESOLUTION: 1.00000
SECONDARY_HORIZONTAL_DATUM: NAD27
XY_ORIGIN: 639151.00000 5332314.00000
SECONDARY_XY_ORIGIN: 639228.80000 5332102.30000
NATION: US
STATE: MT
NW_QUAD_CORNER_XY: 639525.74000 5331893.77000
NE_QUAD_CORNER_XY: 644176.41000 5332009.03000
SE_QUAD_CORNERY_XY: 644351.30000 5325062.72000
SW_QUAD_CORNER_XY: 639694.98000 5324947.44000
SECONDARY_NW_QUAD_XY: 639530.15000 5331674.92000
SECONDARY_NE_QUAD_XY: 644180.96000 5331790.18000
SECONDARY_SE_QUAD_XY: 644355.85000 5324843.88000
SECONDARY_SW_QUAD_XY: 639699.39000 5324728.60000
RMSE_XY: 2.00000
IMAGE_SOURCE: BLACK AND WHITE FILM
SOURCE_IMAGE_ID: NAPP 8420 109
SOURCE_IMAGE_DATE: 1995 8 20
SOURCE_IMAGE_ID: NAPP 8420 30
SOURCE_IMAGE_DATE: 1995 8 20
SOURCE_DEM_DATE: 1997 3 19
AGENCY: WESTERN MAPPING CENTER (WMC)
PRODUCER: USFS
PRODUCTION_SYSTEM: DV2.6.3 10/9OV2.4 5/95
COMPRESSION: UNDEFINED
STANDARD_VERSION: 1996 12
METADATA_DATE: 1997 11 3
DATA_FILE_SIZE: 42214674
BYTE_COUNT: 5501
