FILENAME: Y:\DOQQ\replacements\geotiff\vol_197\011003\O4811401.SWS.49143.tif
QUADRANGLE_NAME: KSANKA PEAK
QUADRANT: SW
WEST_LONGITUDE: -115 0 0.00000
EAST_LONGITUDE: -114 56 15.00000
NORTH_LATITUDE: 48 56 15.00000
SOUTH_LATITUDE: 48 52 30.00000
PRODUCTION_DATE: 1994 10 13
RASTER_ORDER: LEFT_RIGHT/TOP_BOTTOM
BAND_ORGANIZATION: SINGLE FILE
BAND_CONTENT: BLACK&WHITE
BAND_CONTENT: UNDEFINED
BAND_CONTENT: UNDEFINED
BITS_PER_PIXEL: 8
SAMPLES_AND_LINES: 5442 7679
HORIZONTAL_DATUM: NAD83
HORIZONTAL_COORDINATE_SYSTEM: UTM
COORDINATE_ZONE: 11
HORIZONTAL_UNITS: METERS
HORIZONTAL_RESOLUTION: 1.00000
SECONDARY_HORIZONTAL_DATUM: NAD27
XY_ORIGIN: 646089.00000 5422859.00000
SECONDARY_XY_ORIGIN: 646166.77700 5422645.74200
NATION: US
STATE: MT
NW_QUAD_CORNER_XY: 646463.95400 5422435.77400
NE_QUAD_CORNER_XY: 651040.68700 5422558.16400
SE_QUAD_CORNERY_XY: 651229.23600 5415611.05700
SW_QUAD_CORNER_XY: 646646.78500 5415488.63000
SECONDARY_NW_QUAD_XY: 646468.65200 5422216.82700
SECONDARY_NE_QUAD_XY: 651045.53200 5422339.22100
SECONDARY_SE_QUAD_XY: 651234.08100 5415392.11700
SECONDARY_SW_QUAD_XY: 646651.48400 5415269.68600
RMSE_XY: 3.10000
IMAGE_SOURCE: BLACK AND WHITE FILM
SOURCE_IMAGE_ID: NAPP 2662 175
SOURCE_IMAGE_DATE: 1991 8 30
SOURCE_DEM_DATE: 1994 10 13
AGENCY: WESTERN MAPPING CENTER (WMC)
PRODUCER: Science Applications International
PRODUCTION_SYSTEM: GIS/MAGIC
COMPRESSION: UNDEFINED
STANDARD_VERSION: 1996 12
METADATA_DATE: 1997 7 15
DATA_FILE_SIZE: 41794560
BYTE_COUNT: 5442
