FILENAME: O4811401.SES.49142.tif
QUADRANGLE_NAME: KSANKA PEAK
QUADRANT: SE
WEST_LONGITUDE: -114 56 15.00000
EAST_LONGITUDE: -114 52 30.00000
NORTH_LATITUDE: 48 56 15.00000
SOUTH_LATITUDE: 48 52 30.00000
PRODUCTION_DATE: 1995 5 5
RASTER_ORDER: LEFT_RIGHT/TOP_BOTTOM
BAND_ORGANIZATION: SINGLE FILE
BAND_CONTENT: BLACK&WHITE
BAND_CONTENT: UNDEFINED
BAND_CONTENT: UNDEFINED
BITS_PER_PIXEL: 8
SAMPLES_AND_LINES: 5447 7682
HORIZONTAL_DATUM: NAD83
HORIZONTAL_COORDINATE_SYSTEM: UTM
COORDINATE_ZONE: 11
HORIZONTAL_UNITS: METERS
HORIZONTAL_RESOLUTION: 1.00000
SECONDARY_HORIZONTAL_DATUM: NAD27
XY_ORIGIN: 650666.00000 5422985.00000
SECONDARY_XY_ORIGIN: 650743.78800 5422771.72100
NATION: US
STATE: MT
NW_QUAD_CORNER_XY: 651040.68700 5422558.16400
NE_QUAD_CORNER_XY: 655617.39600 5422684.32300
SE_QUAD_CORNERY_XY: 655811.66300 5415737.25300
SW_QUAD_CORNER_XY: 651229.23600 5415611.05700
SECONDARY_NW_QUAD_XY: 651045.53200 5422339.22100
SECONDARY_NE_QUAD_XY: 655622.38800 5422465.38400
SECONDARY_SE_QUAD_XY: 655816.65500 5415518.31700
SECONDARY_SW_QUAD_XY: 651234.08100 5415392.11700
RMSE_XY: 3.80000
IMAGE_SOURCE: BLACK AND WHITE FILM
SOURCE_IMAGE_ID: NAPP 4644 33
SOURCE_IMAGE_DATE: 1990 8 6
SOURCE_IMAGE_ID: NAPP 4644 4644
SOURCE_IMAGE_DATE: 1990 8 6
SOURCE_IMAGE_ID: NAPP 4644 22
SOURCE_IMAGE_DATE: 1990 8 6
SOURCE_DEM_DATE: 1995 5 5
AGENCY: WESTERN MAPPING CENTER (WMC)
PRODUCER: Science Applications International
PRODUCTION_SYSTEM: GIS/MAGIC
COMPRESSION: UNDEFINED
STANDARD_VERSION: 1996 12
METADATA_DATE: 1997 5 20
DATA_FILE_SIZE: 41849301
BYTE_COUNT: 5447
