FILENAME: O4811401.NES.49140.tif
QUADRANGLE_NAME: KSANKA PEAK
QUADRANT: NE
WEST_LONGITUDE: -114 56 15.00000
EAST_LONGITUDE: -114 52 30.00000
NORTH_LATITUDE: 49 0 0.00000
SOUTH_LATITUDE: 48 56 15.00000
PRODUCTION_DATE: 1995 5 5
RASTER_ORDER: LEFT_RIGHT/TOP_BOTTOM
BAND_ORGANIZATION: SINGLE FILE
BAND_CONTENT: BLACK&WHITE
BAND_CONTENT: UNDEFINED
BAND_CONTENT: UNDEFINED
BITS_PER_PIXEL: 8
SAMPLES_AND_LINES: 5441 7682
HORIZONTAL_DATUM: NAD83
HORIZONTAL_COORDINATE_SYSTEM: UTM
COORDINATE_ZONE: 11
HORIZONTAL_UNITS: METERS
HORIZONTAL_RESOLUTION: 1.00000
SECONDARY_HORIZONTAL_DATUM: NAD27
XY_ORIGIN: 650478.00000 5429932.00000
SECONDARY_XY_ORIGIN: 650555.78400 5429718.62000
NATION: US
NATION: CA
STATE: MT
NW_QUAD_CORNER_XY: 650851.95700 5429505.33700
NE_QUAD_CORNER_XY: 655422.94200 5429631.45800
SE_QUAD_CORNERY_XY: 655617.39600 5422684.32300
SW_QUAD_CORNER_XY: 651040.68700 5422558.16400
SECONDARY_NW_QUAD_XY: 650856.80200 5429286.39200
SECONDARY_NE_QUAD_XY: 655427.93500 5429412.51700
SECONDARY_SE_QUAD_XY: 655622.38800 5422465.38400
SECONDARY_SW_QUAD_XY: 651045.53200 5422339.22100
RMSE_XY: 4.00000
IMAGE_SOURCE: BLACK AND WHITE FILM
SOURCE_IMAGE_ID: NAPP 4644 11
SOURCE_IMAGE_DATE: 1990 8 6
SOURCE_IMAGE_ID: NAPP 4644 4644
SOURCE_IMAGE_DATE: 1990 8 6
SOURCE_IMAGE_ID: NAPP 4644 22
SOURCE_IMAGE_DATE: 1990 8 6
SOURCE_DEM_DATE: 1995 5 5
AGENCY: WESTERN MAPPING CENTER (WMC)
PRODUCER: Science Applications International
PRODUCTION_SYSTEM: GIS/MAGIC
COMPRESSION: UNDEFINED
STANDARD_VERSION: 1996 12
METADATA_DATE: 1997 5 20
DATA_FILE_SIZE: 41803203
BYTE_COUNT: 5441
