FILENAME: O4811402.SWS.49006.tif
QUADRANGLE_NAME: STAHL PEAK
QUADRANT: SW
WEST_LONGITUDE: -114 52 30.00000
EAST_LONGITUDE: -114 48 45.00000
NORTH_LATITUDE: 48 56 15.00000
SOUTH_LATITUDE: 48 52 30.00000
PRODUCTION_DATE: 1994 10 13
RASTER_ORDER: LEFT_RIGHT/TOP_BOTTOM
BAND_ORGANIZATION: SINGLE FILE
BAND_CONTENT: BLACK&WHITE
BAND_CONTENT: UNDEFINED
BAND_CONTENT: UNDEFINED
BITS_PER_PIXEL: 8
SAMPLES_AND_LINES: 5453 7686
HORIZONTAL_DATUM: NAD83
HORIZONTAL_COORDINATE_SYSTEM: UTM
COORDINATE_ZONE: 11
HORIZONTAL_UNITS: METERS
HORIZONTAL_RESOLUTION: 1.00000
SECONDARY_HORIZONTAL_DATUM: NAD27
XY_ORIGIN: 655243.00000 5423115.00000
SECONDARY_XY_ORIGIN: 655320.80000 5422901.70100
NATION: US
STATE: MT
NW_QUAD_CORNER_XY: 655617.39600 5422684.32300
NE_QUAD_CORNER_XY: 660194.08000 5422814.25000
SE_QUAD_CORNERY_XY: 660394.06500 5415867.21900
SW_QUAD_CORNER_XY: 655811.66300 5415737.25300
SECONDARY_NW_QUAD_XY: 655622.38800 5422465.38400
SECONDARY_NE_QUAD_XY: 660199.21800 5422595.31600
SECONDARY_SE_QUAD_XY: 660399.20400 5415648.28700
SECONDARY_SW_QUAD_XY: 655816.65500 5415518.31700
RMSE_XY: 2.90000
IMAGE_SOURCE: BLACK AND WHITE FILM
SOURCE_IMAGE_ID: NAPP 2644 074
SOURCE_IMAGE_DATE: 1990 8 6
SOURCE_DEM_DATE: 1994 10 13
AGENCY: WESTERN MAPPING CENTER (WMC)
PRODUCER: Science Applications International
PRODUCTION_SYSTEM: GIS/MAGIC
COMPRESSION: UNDEFINED
STANDARD_VERSION: 1996 12
METADATA_DATE: 1997 7 16
DATA_FILE_SIZE: 41917211
BYTE_COUNT: 5453
