FILENAME: O4811403.SWS.48823.tif
QUADRANGLE_NAME: TUCHUCK MOUNTAIN
QUADRANT: SW
WEST_LONGITUDE: -114 45 0.00000
EAST_LONGITUDE: -114 41 15.00000
NORTH_LATITUDE: 48 56 15.00000
SOUTH_LATITUDE: 48 52 30.00000
PRODUCTION_DATE: 1994 10 13
RASTER_ORDER: LEFT_RIGHT/TOP_BOTTOM
BAND_ORGANIZATION: SINGLE FILE
BAND_CONTENT: BLACK&WHITE
BAND_CONTENT: UNDEFINED
BAND_CONTENT: UNDEFINED
BITS_PER_PIXEL: 8
SAMPLES_AND_LINES: 5463 7693
HORIZONTAL_DATUM: NAD83
HORIZONTAL_COORDINATE_SYSTEM: UTM
COORDINATE_ZONE: 11
HORIZONTAL_UNITS: METERS
HORIZONTAL_RESOLUTION: 1.00000
SECONDARY_HORIZONTAL_DATUM: NAD27
XY_ORIGIN: 664397.00000 5423386.00000
SECONDARY_XY_ORIGIN: 664474.81700 5423172.65700
NATION: US
STATE: MT
NW_QUAD_CORNER_XY: 664770.73700 5422947.94600
NE_QUAD_CORNER_XY: 669347.36800 5423085.41200
SE_QUAD_CORNERY_XY: 669558.79000 5416138.46200
SW_QUAD_CORNER_XY: 664976.44100 5416000.95500
SECONDARY_NW_QUAD_XY: 664776.02300 5422729.01600
SECONDARY_NE_QUAD_XY: 669352.80100 5422866.48600
SECONDARY_SE_QUAD_XY: 669564.22300 5415919.53900
SECONDARY_SW_QUAD_XY: 664981.72600 5415782.02800
RMSE_XY: 1.40000
IMAGE_SOURCE: BLACK AND WHITE FILM
SOURCE_IMAGE_ID: NAPP 2663 025
SOURCE_IMAGE_DATE: 1991 9 4
SOURCE_DEM_DATE: 1994 10 13
AGENCY: WESTERN MAPPING CENTER (WMC)
PRODUCER: Science Applications International
PRODUCTION_SYSTEM: GIS/MAGIC
COMPRESSION: UNDEFINED
STANDARD_VERSION: 1996 12
METADATA_DATE: 1997 7 15
DATA_FILE_SIZE: 42032322
BYTE_COUNT: 5463
