FILENAME: O4811404.SES.48618.tif
QUADRANGLE_NAME: MOUNT HEFTY
QUADRANT: SE
WEST_LONGITUDE: -114 33 45.00000
EAST_LONGITUDE: -114 30 0.00000
NORTH_LATITUDE: 48 56 15.00000
SOUTH_LATITUDE: 48 52 30.00000
PRODUCTION_DATE: 1994 11 4
RASTER_ORDER: LEFT_RIGHT/TOP_BOTTOM
BAND_ORGANIZATION: SINGLE FILE
BAND_CONTENT: BLACK&WHITE
BAND_CONTENT: UNDEFINED
BAND_CONTENT: UNDEFINED
BITS_PER_PIXEL: 8
SAMPLES_AND_LINES: 5480 7704
HORIZONTAL_DATUM: NAD83
HORIZONTAL_COORDINATE_SYSTEM: UTM
COORDINATE_ZONE: 11
HORIZONTAL_UNITS: METERS
HORIZONTAL_RESOLUTION: 1.00000
SECONDARY_HORIZONTAL_DATUM: NAD27
XY_ORIGIN: 678127.00000 5423821.00000
SECONDARY_XY_ORIGIN: 678204.70300 5423607.60400
NATION: US
STATE: MT
NW_QUAD_CORNER_XY: 678500.54600 5423371.65200
NE_QUAD_CORNER_XY: 683077.09200 5423520.42700
SE_QUAD_CORNERY_XY: 683305.67400 5416573.60600
SW_QUAD_CORNER_XY: 678723.40800 5416424.78700
SECONDARY_NW_QUAD_XY: 678506.27300 5423152.73600
SECONDARY_NE_QUAD_XY: 683082.96500 5423301.51500
SECONDARY_SE_QUAD_XY: 683311.54700 5416354.69700
SECONDARY_SW_QUAD_XY: 678729.13400 5416205.87300
RMSE_XY: 2.50000
IMAGE_SOURCE: BLACK AND WHITE FILM
SOURCE_IMAGE_ID: NAPP 2664 025
SOURCE_IMAGE_DATE: 1991 9 4
SOURCE_DEM_DATE: 1994 11 4
AGENCY: WESTERN MAPPING CENTER (WMC)
PRODUCER: Science Applications International
PRODUCTION_SYSTEM: GIS/MAGIC
COMPRESSION: UNDEFINED
STANDARD_VERSION: 1996 12
METADATA_DATE: 1997 7 27
DATA_FILE_SIZE: 42223400
BYTE_COUNT: 5480
