FILENAME: O4811404.NWS.48617.tif
QUADRANGLE_NAME: MOUNT HEFTY
QUADRANT: NW
WEST_LONGITUDE: -114 37 30.00000
EAST_LONGITUDE: -114 33 45.00000
NORTH_LATITUDE: 49 0 0.00000
SOUTH_LATITUDE: 48 56 15.00000
PRODUCTION_DATE: 1994 11 4
RASTER_ORDER: LEFT_RIGHT/TOP_BOTTOM
BAND_ORGANIZATION: SINGLE FILE
BAND_CONTENT: BLACK&WHITE
BAND_CONTENT: UNDEFINED
BAND_CONTENT: UNDEFINED
BITS_PER_PIXEL: 8
SAMPLES_AND_LINES: 5469 7700
HORIZONTAL_DATUM: NAD83
HORIZONTAL_COORDINATE_SYSTEM: UTM
COORDINATE_ZONE: 11
HORIZONTAL_UNITS: METERS
HORIZONTAL_RESOLUTION: 1.00000
SECONDARY_HORIZONTAL_DATUM: NAD27
XY_ORIGIN: 673333.00000 5430619.00000
SECONDARY_XY_ORIGIN: 673410.75800 5430405.51600
NATION: US
NATION: CA
STATE: MT
NW_QUAD_CORNER_XY: 673706.62100 5430173.61800
NE_QUAD_CORNER_XY: 678277.47100 5430318.57900
SE_QUAD_CORNERY_XY: 678500.54600 5423371.65200
SW_QUAD_CORNER_XY: 673923.97100 5423226.64700
SECONDARY_NW_QUAD_XY: 673712.20100 5429954.69500
SECONDARY_NE_QUAD_XY: 678283.19700 5430099.66100
SECONDARY_SE_QUAD_XY: 678506.27300 5423152.73600
SECONDARY_SW_QUAD_XY: 673929.55100 5423007.72600
RMSE_XY: 2.50000
IMAGE_SOURCE: BLACK AND WHITE FILM
SOURCE_IMAGE_ID: NAPP 2664 018
SOURCE_IMAGE_DATE: 1991 9 4
SOURCE_DEM_DATE: 1994 11 4
AGENCY: WESTERN MAPPING CENTER (WMC)
PRODUCER: Science Applications International
PRODUCTION_SYSTEM: GIS/MAGIC
COMPRESSION: UNDEFINED
STANDARD_VERSION: 1996 12
METADATA_DATE: 1997 7 27
DATA_FILE_SIZE: 42116769
BYTE_COUNT: 5469
