FILENAME: O4811405.SWS.48439.tif
QUADRANGLE_NAME: TRAILCREEK
QUADRANT: SW
WEST_LONGITUDE: -114 30 0.00000
EAST_LONGITUDE: -114 26 15.00000
NORTH_LATITUDE: 48 56 15.00000
SOUTH_LATITUDE: 48 52 30.00000
PRODUCTION_DATE: 1994 11 4
RASTER_ORDER: LEFT_RIGHT/TOP_BOTTOM
BAND_ORGANIZATION: SINGLE FILE
BAND_CONTENT: BLACK&WHITE
BAND_CONTENT: UNDEFINED
BAND_CONTENT: UNDEFINED
BITS_PER_PIXEL: 8
SAMPLES_AND_LINES: 5485 7708
HORIZONTAL_DATUM: NAD83
HORIZONTAL_COORDINATE_SYSTEM: UTM
COORDINATE_ZONE: 11
HORIZONTAL_UNITS: METERS
HORIZONTAL_RESOLUTION: 1.00000
SECONDARY_HORIZONTAL_DATUM: NAD27
XY_ORIGIN: 682704.00000 5423973.00000
SECONDARY_XY_ORIGIN: 682781.67000 5423759.58500
NATION: US
STATE: MT
NW_QUAD_CORNER_XY: 683077.09200 5423520.42700
NE_QUAD_CORNER_XY: 687653.60800 5423672.97200
SE_QUAD_CORNERY_XY: 687887.91100 5416726.19700
SW_QUAD_CORNER_XY: 683305.67400 5416573.60600
SECONDARY_NW_QUAD_XY: 683082.96500 5423301.51500
SECONDARY_NE_QUAD_XY: 687659.62900 5423454.06600
SECONDARY_SE_QUAD_XY: 687893.93100 5416507.29300
SECONDARY_SW_QUAD_XY: 683311.54700 5416354.69700
RMSE_XY: 3.20000
IMAGE_SOURCE: BLACK AND WHITE FILM
SOURCE_IMAGE_ID: NAPP 2664 028
SOURCE_IMAGE_DATE: 1991 9 4
SOURCE_DEM_DATE: 1994 11 4
AGENCY: WESTERN MAPPING CENTER (WMC)
PRODUCER: Science Applications International
PRODUCTION_SYSTEM: GIS/MAGIC
COMPRESSION: UNDEFINED
STANDARD_VERSION: 1996 12
METADATA_DATE: 1997 7 27
DATA_FILE_SIZE: 42283865
BYTE_COUNT: 5485
