FILENAME: O4811406.NES.48296.tif
QUADRANGLE_NAME: KINTLA LAKE
QUADRANT: NE
WEST_LONGITUDE: -114 18 45.00000
EAST_LONGITUDE: -114 15 0.00000
NORTH_LATITUDE: 49 0 0.00000
SOUTH_LATITUDE: 48 56 15.00000
PRODUCTION_DATE: 1995 5 4
RASTER_ORDER: LEFT_RIGHT/TOP_BOTTOM
BAND_ORGANIZATION: SINGLE FILE
BAND_CONTENT: BLACK&WHITE
BAND_CONTENT: UNDEFINED
BAND_CONTENT: UNDEFINED
BITS_PER_PIXEL: 8
SAMPLES_AND_LINES: 5496 7719
HORIZONTAL_DATUM: NAD83
HORIZONTAL_COORDINATE_SYSTEM: UTM
COORDINATE_ZONE: 11
HORIZONTAL_UNITS: METERS
HORIZONTAL_RESOLUTION: 1.00000
SECONDARY_HORIZONTAL_DATUM: NAD27
XY_ORIGIN: 696188.00000 5431400.00000
SECONDARY_XY_ORIGIN: 696265.49000 5431186.42700
NATION: US
NATION: CA
STATE: MT
NW_QUAD_CORNER_XY: 696560.56800 5430936.11500
NE_QUAD_CORNER_XY: 701131.26300 5431099.92400
SE_QUAD_CORNERY_XY: 701382.97100 5424153.23300
SW_QUAD_CORNER_XY: 696806.54800 5423989.37500
SECONDARY_NW_QUAD_XY: 696566.88200 5430717.21700
SECONDARY_NE_QUAD_XY: 701137.72300 5430881.03100
SECONDARY_SE_QUAD_XY: 701389.43100 5423934.34200
SECONDARY_SW_QUAD_XY: 696812.86200 5423770.47800
RMSE_XY: 6.80000
IMAGE_SOURCE: BLACK AND WHITE FILM
SOURCE_IMAGE_ID: NAPP 0650 99
SOURCE_IMAGE_DATE: 1990 9 7
SOURCE_IMAGE_ID: NAPP 0650 0650
SOURCE_IMAGE_DATE: 1990 9 7
SOURCE_IMAGE_ID: NAPP 0650 00
SOURCE_IMAGE_DATE: 1990 9 7
SOURCE_IMAGE_ID: NAPP 0650 0650
SOURCE_IMAGE_DATE: 1990 9 7
SOURCE_IMAGE_ID: NAPP 0650 88
SOURCE_IMAGE_DATE: 1990 9 7
SOURCE_DEM_DATE: 1995 5 4
AGENCY: WESTERN MAPPING CENTER (WMC)
PRODUCER: Science Applications International
PRODUCTION_SYSTEM: GIS/MAGIC
COMPRESSION: UNDEFINED
STANDARD_VERSION: 1996 12
METADATA_DATE: 1997 5 20
DATA_FILE_SIZE: 42429120
BYTE_COUNT: 5496
