FILENAME: O4811407.SWS.48175.tif
QUADRANGLE_NAME: KINTLA PEAK
QUADRANT: SW
WEST_LONGITUDE: -114 15 0.00000
EAST_LONGITUDE: -114 11 15.00000
NORTH_LATITUDE: 48 56 15.00000
SOUTH_LATITUDE: 48 52 30.00000
PRODUCTION_DATE: 1995 5 5
RASTER_ORDER: LEFT_RIGHT/TOP_BOTTOM
BAND_ORGANIZATION: SINGLE FILE
BAND_CONTENT: BLACK&WHITE
BAND_CONTENT: UNDEFINED
BAND_CONTENT: UNDEFINED
BITS_PER_PIXEL: 8
SAMPLES_AND_LINES: 5508 7722
HORIZONTAL_DATUM: NAD83
HORIZONTAL_COORDINATE_SYSTEM: UTM
COORDINATE_ZONE: 11
HORIZONTAL_UNITS: METERS
HORIZONTAL_RESOLUTION: 1.00000
SECONDARY_HORIZONTAL_DATUM: NAD27
XY_ORIGIN: 701010.00000 5424621.00000
SECONDARY_XY_ORIGIN: 701087.46000 5424407.54800
NATION: US
STATE: MT
NW_QUAD_CORNER_XY: 701382.97100 5424153.23300
NE_QUAD_CORNER_XY: 705959.36000 5424320.86300
SE_QUAD_CORNERY_XY: 706216.54900 5417374.28100
SW_QUAD_CORNER_XY: 701634.43700 5417206.60100
SECONDARY_NW_QUAD_XY: 701389.43100 5423934.34200
SECONDARY_NE_QUAD_XY: 705965.96800 5424101.97700
SECONDARY_SE_QUAD_XY: 706223.15700 5417155.39700
SECONDARY_SW_QUAD_XY: 701640.89800 5416987.71200
RMSE_XY: 1.70000
IMAGE_SOURCE: BLACK AND WHITE FILM
SOURCE_IMAGE_ID: NAPP 0650 22
SOURCE_IMAGE_DATE: 1990 9 7
SOURCE_IMAGE_ID: NAPP 0650 0650
SOURCE_IMAGE_DATE: 1990 9 7
SOURCE_IMAGE_ID: NAPP 0650 33
SOURCE_IMAGE_DATE: 1990 9 7
SOURCE_DEM_DATE: 1995 5 5
AGENCY: WESTERN MAPPING CENTER (WMC)
PRODUCER: Science Applications International
PRODUCTION_SYSTEM: GIS/MAGIC
COMPRESSION: UNDEFINED
STANDARD_VERSION: 1996 12
METADATA_DATE: 1997 5 20
DATA_FILE_SIZE: 42538284
BYTE_COUNT: 5508
