FILENAME: O4811407.SES.48174.tif
QUADRANGLE_NAME: KINTLA PEAK
QUADRANT: SE
WEST_LONGITUDE: -114 11 15.00000
EAST_LONGITUDE: -114 7 30.00000
NORTH_LATITUDE: 48 56 15.00000
SOUTH_LATITUDE: 48 52 30.00000
PRODUCTION_DATE: 1995 5 5
RASTER_ORDER: LEFT_RIGHT/TOP_BOTTOM
BAND_ORGANIZATION: SINGLE FILE
BAND_CONTENT: BLACK&WHITE
BAND_CONTENT: UNDEFINED
BAND_CONTENT: UNDEFINED
BITS_PER_PIXEL: 8
SAMPLES_AND_LINES: 5513 7727
HORIZONTAL_DATUM: NAD83
HORIZONTAL_COORDINATE_SYSTEM: UTM
COORDINATE_ZONE: 11
HORIZONTAL_UNITS: METERS
HORIZONTAL_RESOLUTION: 1.00000
SECONDARY_HORIZONTAL_DATUM: NAD27
XY_ORIGIN: 705587.00000 5424793.00000
SECONDARY_XY_ORIGIN: 705664.40900 5424579.52900
NATION: US
STATE: MT
NW_QUAD_CORNER_XY: 705959.36000 5424320.86300
NE_QUAD_CORNER_XY: 710535.71600 5424492.26400
SE_QUAD_CORNERY_XY: 710798.62800 5417545.73300
SW_QUAD_CORNER_XY: 706216.54900 5417374.28100
SECONDARY_NW_QUAD_XY: 705965.96800 5424101.97700
SECONDARY_NE_QUAD_XY: 710542.47000 5424273.38400
SECONDARY_SE_QUAD_XY: 710805.38200 5417326.85500
SECONDARY_SW_QUAD_XY: 706223.15700 5417155.39700
RMSE_XY: 4.60000
IMAGE_SOURCE: BLACK AND WHITE FILM
SOURCE_IMAGE_ID: NAPP 0650 99
SOURCE_IMAGE_DATE: 1990 9 7
SOURCE_IMAGE_ID: NAPP 0650 0650
SOURCE_IMAGE_DATE: 1990 9 7
SOURCE_IMAGE_ID: NAPP 0650 88
SOURCE_IMAGE_DATE: 1990 9 7
SOURCE_DEM_DATE: 1995 5 5
AGENCY: WESTERN MAPPING CENTER (WMC)
PRODUCER: Science Applications International
PRODUCTION_SYSTEM: GIS/MAGIC
COMPRESSION: UNDEFINED
STANDARD_VERSION: 1996 12
METADATA_DATE: 1997 5 20
DATA_FILE_SIZE: 42604464
BYTE_COUNT: 5513
