FILENAME: O4811407.NWS.48173.tif
QUADRANGLE_NAME: KINTLA PEAK
QUADRANT: NW
WEST_LONGITUDE: -114 15 0.00000
EAST_LONGITUDE: -114 11 15.00000
NORTH_LATITUDE: 49 0 0.00000
SOUTH_LATITUDE: 48 56 15.00000
PRODUCTION_DATE: 1995 5 5
RASTER_ORDER: LEFT_RIGHT/TOP_BOTTOM
BAND_ORGANIZATION: SINGLE FILE
BAND_CONTENT: BLACK&WHITE
BAND_CONTENT: UNDEFINED
BAND_CONTENT: UNDEFINED
BITS_PER_PIXEL: 8
SAMPLES_AND_LINES: 5502 7723
HORIZONTAL_DATUM: NAD83
HORIZONTAL_COORDINATE_SYSTEM: UTM
COORDINATE_ZONE: 11
HORIZONTAL_UNITS: METERS
HORIZONTAL_RESOLUTION: 1.00000
SECONDARY_HORIZONTAL_DATUM: NAD27
XY_ORIGIN: 700759.00000 5431568.00000
SECONDARY_XY_ORIGIN: 700836.43400 5431354.41200
NATION: US
NATION: CA
STATE: MT
NW_QUAD_CORNER_XY: 701131.26300 5431099.92400
NE_QUAD_CORNER_XY: 705701.92400 5431267.50300
SE_QUAD_CORNERY_XY: 705959.36000 5424320.86300
SW_QUAD_CORNER_XY: 701382.97100 5424153.23300
SECONDARY_NW_QUAD_XY: 701137.72300 5430881.03100
SECONDARY_NE_QUAD_XY: 705708.53200 5431048.61500
SECONDARY_SE_QUAD_XY: 705965.96800 5424101.97700
SECONDARY_SW_QUAD_XY: 701389.43100 5423934.34200
RMSE_XY: 2.60000
IMAGE_SOURCE: BLACK AND WHITE FILM
SOURCE_IMAGE_ID: NAPP 0650 44
SOURCE_IMAGE_DATE: 1990 9 7
SOURCE_IMAGE_ID: NAPP 0650 0650
SOURCE_IMAGE_DATE: 1990 9 7
SOURCE_IMAGE_ID: NAPP 0650 33
SOURCE_IMAGE_DATE: 1990 9 7
SOURCE_IMAGE_ID: NAPP 0650 0650
SOURCE_IMAGE_DATE: 1990 9 7
SOURCE_IMAGE_ID: NAPP 0650 55
SOURCE_IMAGE_DATE: 1990 9 7
SOURCE_DEM_DATE: 1995 5 5
AGENCY: WESTERN MAPPING CENTER (WMC)
PRODUCER: Science Applications International
PRODUCTION_SYSTEM: GIS/MAGIC
COMPRESSION: UNDEFINED
STANDARD_VERSION: 1996 12
METADATA_DATE: 1997 5 20
DATA_FILE_SIZE: 42497448
BYTE_COUNT: 5502
