FILENAME: O4811410.SWS.49010.tif
QUADRANGLE_NAME: MOUNT MARSTON
QUADRANT: SW
WEST_LONGITUDE: -114 52 30.00000
EAST_LONGITUDE: -114 48 45.00000
NORTH_LATITUDE: 48 48 45.00000
SOUTH_LATITUDE: 48 45 0.00000
PRODUCTION_DATE: 1994 10 13
RASTER_ORDER: LEFT_RIGHT/TOP_BOTTOM
BAND_ORGANIZATION: SINGLE FILE
BAND_CONTENT: BLACK&WHITE
BAND_CONTENT: UNDEFINED
BAND_CONTENT: UNDEFINED
BITS_PER_PIXEL: 8
SAMPLES_AND_LINES: 5464 7686
HORIZONTAL_DATUM: NAD83
HORIZONTAL_COORDINATE_SYSTEM: UTM
COORDINATE_ZONE: 11
HORIZONTAL_UNITS: METERS
HORIZONTAL_RESOLUTION: 1.00000
SECONDARY_HORIZONTAL_DATUM: NAD27
XY_ORIGIN: 655631.00000 5409221.00000
SECONDARY_XY_ORIGIN: 655708.77500 5409007.90500
NATION: US
STATE: MT
NW_QUAD_CORNER_XY: 656005.74300 5408790.24900
NE_QUAD_CORNER_XY: 660593.85700 5408920.25300
SE_QUAD_CORNERY_XY: 660793.45800 5401973.35100
SW_QUAD_CORNER_XY: 656199.63600 5401843.31000
SECONDARY_NW_QUAD_XY: 656010.73500 5408571.31600
SECONDARY_NE_QUAD_XY: 660598.99600 5408701.32400
SECONDARY_SE_QUAD_XY: 660798.59700 5401754.42700
SECONDARY_SW_QUAD_XY: 656204.62800 5401624.38100
RMSE_XY: 1.80000
IMAGE_SOURCE: BLACK AND WHITE FILM
SOURCE_IMAGE_ID: NAPP 2644 070
SOURCE_IMAGE_DATE: 1990 8 6
SOURCE_DEM_DATE: 1994 10 13
AGENCY: WESTERN MAPPING CENTER (WMC)
PRODUCER: Science Applications International
PRODUCTION_SYSTEM: GIS/MAGIC
COMPRESSION: UNDEFINED
STANDARD_VERSION: 1996 12
METADATA_DATE: 1997 7 16
DATA_FILE_SIZE: 42001768
BYTE_COUNT: 5464
