FILENAME: O4811410.SES.49009.tif
QUADRANGLE_NAME: MOUNT MARSTON
QUADRANT: SE
WEST_LONGITUDE: -114 48 45.00000
EAST_LONGITUDE: -114 45 0.00000
NORTH_LATITUDE: 48 48 45.00000
SOUTH_LATITUDE: 48 45 0.00000
PRODUCTION_DATE: 1994 10 13
RASTER_ORDER: LEFT_RIGHT/TOP_BOTTOM
BAND_ORGANIZATION: SINGLE FILE
BAND_CONTENT: BLACK&WHITE
BAND_CONTENT: UNDEFINED
BAND_CONTENT: UNDEFINED
BITS_PER_PIXEL: 8
SAMPLES_AND_LINES: 5469 7690
HORIZONTAL_DATUM: NAD83
HORIZONTAL_COORDINATE_SYSTEM: UTM
COORDINATE_ZONE: 11
HORIZONTAL_UNITS: METERS
HORIZONTAL_RESOLUTION: 1.00000
SECONDARY_HORIZONTAL_DATUM: NAD27
XY_ORIGIN: 660220.00000 5409355.00000
SECONDARY_XY_ORIGIN: 660297.75500 5409141.88100
NATION: US
STATE: MT
NW_QUAD_CORNER_XY: 660593.85700 5408920.25300
NE_QUAD_CORNER_XY: 665181.94700 5409054.02800
SE_QUAD_CORNERY_XY: 665387.25500 5402107.16500
SW_QUAD_CORNER_XY: 660793.45800 5401973.35100
SECONDARY_NW_QUAD_XY: 660598.99600 5408701.32400
SECONDARY_NE_QUAD_XY: 665187.23200 5408835.10400
SECONDARY_SE_QUAD_XY: 665392.54000 5401888.24500
SECONDARY_SW_QUAD_XY: 660798.59700 5401754.42700
RMSE_XY: 2.60000
IMAGE_SOURCE: BLACK AND WHITE FILM
SOURCE_IMAGE_ID: NAPP 2662 167
SOURCE_IMAGE_DATE: 1991 8 30
SOURCE_DEM_DATE: 1994 10 13
AGENCY: WESTERN MAPPING CENTER (WMC)
PRODUCER: Science Applications International
PRODUCTION_SYSTEM: GIS/MAGIC
COMPRESSION: UNDEFINED
STANDARD_VERSION: 1996 12
METADATA_DATE: 1997 7 16
DATA_FILE_SIZE: 42062079
BYTE_COUNT: 5469
