FILENAME: O4811412.SWS.48623.tif
QUADRANGLE_NAME: RED MEADOW LAKE
QUADRANT: SW
WEST_LONGITUDE: -114 37 30.00000
EAST_LONGITUDE: -114 33 45.00000
NORTH_LATITUDE: 48 48 45.00000
SOUTH_LATITUDE: 48 45 0.00000
PRODUCTION_DATE: 1994 10 13
RASTER_ORDER: LEFT_RIGHT/TOP_BOTTOM
BAND_ORGANIZATION: SINGLE FILE
BAND_CONTENT: BLACK&WHITE
BAND_CONTENT: UNDEFINED
BAND_CONTENT: UNDEFINED
BITS_PER_PIXEL: 8
SAMPLES_AND_LINES: 5486 7700
HORIZONTAL_DATUM: NAD83
HORIZONTAL_COORDINATE_SYSTEM: UTM
COORDINATE_ZONE: 11
HORIZONTAL_UNITS: METERS
HORIZONTAL_RESOLUTION: 1.00000
SECONDARY_HORIZONTAL_DATUM: NAD27
XY_ORIGIN: 673984.00000 5409778.00000
SECONDARY_XY_ORIGIN: 674061.70700 5409564.83500
NATION: US
STATE: MT
NW_QUAD_CORNER_XY: 674358.04600 5409332.89300
NE_QUAD_CORNER_XY: 678946.05500 5409477.98400
SE_QUAD_CORNERY_XY: 679168.48800 5402531.24300
SW_QUAD_CORNER_XY: 674574.77000 5402386.11100
SECONDARY_NW_QUAD_XY: 674363.62600 5409113.97800
SECONDARY_NE_QUAD_XY: 678951.78100 5409259.07300
SECONDARY_SE_QUAD_XY: 679174.21400 5402312.33700
SECONDARY_SW_QUAD_XY: 674580.35000 5402167.20000
RMSE_XY: 3.00000
IMAGE_SOURCE: BLACK AND WHITE FILM
SOURCE_IMAGE_ID: NAPP 2664 012
SOURCE_IMAGE_DATE: 1991 9 4
SOURCE_DEM_DATE: 1994 10 13
AGENCY: WESTERN MAPPING CENTER (WMC)
PRODUCER: Science Applications International
PRODUCTION_SYSTEM: GIS/MAGIC
COMPRESSION: UNDEFINED
STANDARD_VERSION: 1996 12
METADATA_DATE: 1997 7 16
DATA_FILE_SIZE: 42247686
BYTE_COUNT: 5486
