FILENAME: O4811412.NES.48620.tif
QUADRANGLE_NAME: RED MEADOW LAKE
QUADRANT: NE
WEST_LONGITUDE: -114 33 45.00000
EAST_LONGITUDE: -114 30 0.00000
NORTH_LATITUDE: 48 52 30.00000
SOUTH_LATITUDE: 48 48 45.00000
PRODUCTION_DATE: 1994 10 13
RASTER_ORDER: LEFT_RIGHT/TOP_BOTTOM
BAND_ORGANIZATION: SINGLE FILE
BAND_CONTENT: BLACK&WHITE
BAND_CONTENT: UNDEFINED
BAND_CONTENT: UNDEFINED
BITS_PER_PIXEL: 8
SAMPLES_AND_LINES: 5486 7704
HORIZONTAL_DATUM: NAD83
HORIZONTAL_COORDINATE_SYSTEM: UTM
COORDINATE_ZONE: 11
HORIZONTAL_UNITS: METERS
HORIZONTAL_RESOLUTION: 1.00000
SECONDARY_HORIZONTAL_DATUM: NAD27
XY_ORIGIN: 678350.00000 5416874.00000
SECONDARY_XY_ORIGIN: 678427.70000 5416660.71400
NATION: US
STATE: MT
NW_QUAD_CORNER_XY: 678723.40800 5416424.78700
NE_QUAD_CORNER_XY: 683305.67400 5416573.60600
SE_QUAD_CORNERY_XY: 683534.03600 5409626.84700
SW_QUAD_CORNER_XY: 678946.05500 5409477.98400
SECONDARY_NW_QUAD_XY: 678729.13400 5416205.87300
SECONDARY_NE_QUAD_XY: 683311.54700 5416354.69700
SECONDARY_SE_QUAD_XY: 683539.90900 5409407.94100
SECONDARY_SW_QUAD_XY: 678951.78100 5409259.07300
RMSE_XY: 2.90000
IMAGE_SOURCE: BLACK AND WHITE FILM
SOURCE_IMAGE_ID: NAPP 2662 148
SOURCE_IMAGE_DATE: 1991 8 30
SOURCE_DEM_DATE: 1994 10 13
AGENCY: WESTERN MAPPING CENTER (WMC)
PRODUCER: Science Applications International
PRODUCTION_SYSTEM: GIS/MAGIC
COMPRESSION: UNDEFINED
STANDARD_VERSION: 1996 12
METADATA_DATE: 1997 7 16
DATA_FILE_SIZE: 42269630
BYTE_COUNT: 5486
