FILENAME: O4811413.SES.48442.tif
QUADRANGLE_NAME: WHALE BUTTES
QUADRANT: SE
WEST_LONGITUDE: -114 26 15.00000
EAST_LONGITUDE: -114 22 30.00000
NORTH_LATITUDE: 48 48 45.00000
SOUTH_LATITUDE: 48 45 0.00000
PRODUCTION_DATE: 1994 10 13
RASTER_ORDER: LEFT_RIGHT/TOP_BOTTOM
BAND_ORGANIZATION: SINGLE FILE
BAND_CONTENT: BLACK&WHITE
BAND_CONTENT: UNDEFINED
BAND_CONTENT: UNDEFINED
BITS_PER_PIXEL: 8
SAMPLES_AND_LINES: 5502 7712
HORIZONTAL_DATUM: NAD83
HORIZONTAL_COORDINATE_SYSTEM: UTM
COORDINATE_ZONE: 11
HORIZONTAL_UNITS: METERS
HORIZONTAL_RESOLUTION: 1.00000
SECONDARY_HORIZONTAL_DATUM: NAD27
XY_ORIGIN: 687749.00000 5410236.00000
SECONDARY_XY_ORIGIN: 687826.64800 5410022.81500
NATION: US
STATE: MT
NW_QUAD_CORNER_XY: 688121.98800 5409779.48200
NE_QUAD_CORNER_XY: 692709.91000 5409935.89100
SE_QUAD_CORNERY_XY: 692949.47200 5402989.28200
SW_QUAD_CORNER_XY: 688355.84000 5402832.82800
SECONDARY_NW_QUAD_XY: 688128.00800 5409560.58100
SECONDARY_NE_QUAD_XY: 692716.07700 5409716.99500
SECONDARY_SE_QUAD_XY: 692955.63800 5402770.39000
SECONDARY_SW_QUAD_XY: 688361.85900 5402613.93100
RMSE_XY: 2.50000
IMAGE_SOURCE: BLACK AND WHITE FILM
SOURCE_IMAGE_ID: NAPP 2662 120
SOURCE_IMAGE_DATE: 1991 8 30
SOURCE_DEM_DATE: 1994 10 13
AGENCY: WESTERN MAPPING CENTER (WMC)
PRODUCER: Science Applications International
PRODUCTION_SYSTEM: GIS/MAGIC
COMPRESSION: UNDEFINED
STANDARD_VERSION: 1996 12
METADATA_DATE: 1997 7 27
DATA_FILE_SIZE: 42436926
BYTE_COUNT: 5502
