FILENAME: O4811413.NWS.48441.tif
QUADRANGLE_NAME: WHALE BUTTES
QUADRANT: NW
WEST_LONGITUDE: -114 30 0.00000
EAST_LONGITUDE: -114 26 15.00000
NORTH_LATITUDE: 48 52 30.00000
SOUTH_LATITUDE: 48 48 45.00000
PRODUCTION_DATE: 1994 10 13
RASTER_ORDER: LEFT_RIGHT/TOP_BOTTOM
BAND_ORGANIZATION: SINGLE FILE
BAND_CONTENT: BLACK&WHITE
BAND_CONTENT: UNDEFINED
BAND_CONTENT: UNDEFINED
BITS_PER_PIXEL: 8
SAMPLES_AND_LINES: 5491 7708
HORIZONTAL_DATUM: NAD83
HORIZONTAL_COORDINATE_SYSTEM: UTM
COORDINATE_ZONE: 11
HORIZONTAL_UNITS: METERS
HORIZONTAL_RESOLUTION: 1.00000
SECONDARY_HORIZONTAL_DATUM: NAD27
XY_ORIGIN: 682932.00000 5417027.00000
SECONDARY_XY_ORIGIN: 683009.68200 5416813.69800
NATION: US
STATE: MT
NW_QUAD_CORNER_XY: 683305.67400 5416573.60600
NE_QUAD_CORNER_XY: 687887.91100 5416726.19700
SE_QUAD_CORNERY_XY: 688121.98800 5409779.48200
SW_QUAD_CORNER_XY: 683534.03600 5409626.84700
SECONDARY_NW_QUAD_XY: 683311.54700 5416354.69700
SECONDARY_NE_QUAD_XY: 687893.93100 5416507.29300
SECONDARY_SE_QUAD_XY: 688128.00800 5409560.58100
SECONDARY_SW_QUAD_XY: 683539.90900 5409407.94100
RMSE_XY: 3.30000
IMAGE_SOURCE: BLACK AND WHITE FILM
SOURCE_IMAGE_ID: NAPP 2662 143
SOURCE_IMAGE_DATE: 1991 8 30
SOURCE_DEM_DATE: 1994 10 13
AGENCY: WESTERN MAPPING CENTER (WMC)
PRODUCER: Science Applications International
PRODUCTION_SYSTEM: GIS/MAGIC
COMPRESSION: UNDEFINED
STANDARD_VERSION: 1996 12
METADATA_DATE: 1997 7 27
DATA_FILE_SIZE: 42330119
BYTE_COUNT: 5491
