FILENAME: O4811414.SWS.48303.tif
QUADRANGLE_NAME: POLEBRIDGE
QUADRANT: SW
WEST_LONGITUDE: -114 22 30.00000
EAST_LONGITUDE: -114 18 45.00000
NORTH_LATITUDE: 48 48 45.00000
SOUTH_LATITUDE: 48 45 0.00000
PRODUCTION_DATE: 1994 10 13
RASTER_ORDER: LEFT_RIGHT/TOP_BOTTOM
BAND_ORGANIZATION: SINGLE FILE
BAND_CONTENT: BLACK&WHITE
BAND_CONTENT: UNDEFINED
BAND_CONTENT: UNDEFINED
BITS_PER_PIXEL: 8
SAMPLES_AND_LINES: 5508 7716
HORIZONTAL_DATUM: NAD83
HORIZONTAL_COORDINATE_SYSTEM: UTM
COORDINATE_ZONE: 11
HORIZONTAL_UNITS: METERS
HORIZONTAL_RESOLUTION: 1.00000
SECONDARY_HORIZONTAL_DATUM: NAD27
XY_ORIGIN: 692337.00000 5410397.00000
SECONDARY_XY_ORIGIN: 692414.60300 5410183.81700
NATION: US
STATE: MT
NW_QUAD_CORNER_XY: 692709.91000 5409935.89100
NE_QUAD_CORNER_XY: 697297.80200 5410096.07200
SE_QUAD_CORNERY_XY: 697543.07400 5403149.50900
SW_QUAD_CORNER_XY: 692949.47200 5402989.28200
SECONDARY_NW_QUAD_XY: 692716.07700 5409716.99500
SECONDARY_NE_QUAD_XY: 697304.11500 5409877.18100
SECONDARY_SE_QUAD_XY: 697549.38800 5402930.62300
SECONDARY_SW_QUAD_XY: 692955.63800 5402770.39000
RMSE_XY: 3.20000
IMAGE_SOURCE: BLACK AND WHITE FILM
SOURCE_IMAGE_ID: NAPP 2662 103
SOURCE_IMAGE_DATE: 1991 8 30
SOURCE_DEM_DATE: 1994 10 13
AGENCY: WESTERN MAPPING CENTER (WMC)
PRODUCER: Science Applications International
PRODUCTION_SYSTEM: GIS/MAGIC
COMPRESSION: UNDEFINED
STANDARD_VERSION: 1996 12
METADATA_DATE: 1997 7 27
DATA_FILE_SIZE: 42505236
BYTE_COUNT: 5508
