FILENAME: O4811415.NWS.48177.tif
QUADRANGLE_NAME: QUARTZ RIDGE
QUADRANT: NW
WEST_LONGITUDE: -114 15 0.00000
EAST_LONGITUDE: -114 11 15.00000
NORTH_LATITUDE: 48 52 30.00000
SOUTH_LATITUDE: 48 48 45.00000
PRODUCTION_DATE: 1994 10 13
RASTER_ORDER: LEFT_RIGHT/TOP_BOTTOM
BAND_ORGANIZATION: SINGLE FILE
BAND_CONTENT: BLACK&WHITE
BAND_CONTENT: UNDEFINED
BAND_CONTENT: UNDEFINED
BITS_PER_PIXEL: 8
SAMPLES_AND_LINES: 5513 7723
HORIZONTAL_DATUM: NAD83
HORIZONTAL_COORDINATE_SYSTEM: UTM
COORDINATE_ZONE: 11
HORIZONTAL_UNITS: METERS
HORIZONTAL_RESOLUTION: 1.00000
SECONDARY_HORIZONTAL_DATUM: NAD27
XY_ORIGIN: 701262.00000 5417675.00000
SECONDARY_XY_ORIGIN: 701339.48600 5417461.68400
NATION: US
STATE: MT
NW_QUAD_CORNER_XY: 701634.43700 5417206.60100
NE_QUAD_CORNER_XY: 706216.54900 5417374.28100
SE_QUAD_CORNERY_XY: 706473.49100 5410427.75600
SW_QUAD_CORNER_XY: 701885.66200 5410260.02700
SECONDARY_NW_QUAD_XY: 701640.89800 5416987.71200
SECONDARY_NE_QUAD_XY: 706223.15700 5417155.39700
SECONDARY_SE_QUAD_XY: 706480.09900 5410208.87600
SECONDARY_SW_QUAD_XY: 701892.12300 5410041.14100
RMSE_XY: 1.90000
IMAGE_SOURCE: BLACK AND WHITE FILM
SOURCE_IMAGE_ID: NAPP 2662 075
SOURCE_IMAGE_DATE: 1991 8 30
SOURCE_DEM_DATE: 1994 10 13
AGENCY: WESTERN MAPPING CENTER (WMC)
PRODUCER: Science Applications International
PRODUCTION_SYSTEM: GIS/MAGIC
COMPRESSION: UNDEFINED
STANDARD_VERSION: 1996 12
METADATA_DATE: 1997 7 27
DATA_FILE_SIZE: 42582412
BYTE_COUNT: 5513
