FILENAME: O4811416.SES.48053.tif
QUADRANGLE_NAME: VULTURE PEAK
QUADRANT: SE
WEST_LONGITUDE: -114 3 45.00000
EAST_LONGITUDE: -114 0 0.00000
NORTH_LATITUDE: 48 48 45.00000
SOUTH_LATITUDE: 48 45 0.00000
PRODUCTION_DATE: 1995 5 4
RASTER_ORDER: LEFT_RIGHT/TOP_BOTTOM
BAND_ORGANIZATION: SINGLE FILE
BAND_CONTENT: BLACK&WHITE
BAND_CONTENT: UNDEFINED
BAND_CONTENT: UNDEFINED
BITS_PER_PIXEL: 8
SAMPLES_AND_LINES: 5535 7734
HORIZONTAL_DATUM: NAD83
HORIZONTAL_COORDINATE_SYSTEM: UTM
COORDINATE_ZONE: 11
HORIZONTAL_UNITS: METERS
HORIZONTAL_RESOLUTION: 1.00000
SECONDARY_HORIZONTAL_DATUM: NAD27
XY_ORIGIN: 715277.00000 5411254.00000
SECONDARY_XY_ORIGIN: 715354.39200 5411040.79600
NATION: US
STATE: MT
NW_QUAD_CORNER_XY: 715649.05000 5410774.53600
NE_QUAD_CORNER_XY: 720236.77900 5410953.58800
SE_QUAD_CORNERY_XY: 720510.61100 5404007.27300
SW_QUAD_CORNER_XY: 715917.17000 5403828.16900
SECONDARY_NW_QUAD_XY: 715655.95100 5410555.66700
SECONDARY_NE_QUAD_XY: 720243.82700 5410734.72500
SECONDARY_SE_QUAD_XY: 720517.65900 5403788.41400
SECONDARY_SW_QUAD_XY: 715924.07000 5403609.30400
RMSE_XY: 2.20000
IMAGE_SOURCE: BLACK AND WHITE FILM
SOURCE_IMAGE_ID: NAPP 1661 66
SOURCE_IMAGE_DATE: 1991 8 26
SOURCE_IMAGE_ID: NAPP 1661 1661
SOURCE_IMAGE_DATE: 1991 8 26
SOURCE_IMAGE_ID: NAPP 1661 55
SOURCE_IMAGE_DATE: 1991 8 26
SOURCE_DEM_DATE: 1995 5 4
AGENCY: WESTERN MAPPING CENTER (WMC)
PRODUCER: Science Applications International
PRODUCTION_SYSTEM: GIS/MAGIC
COMPRESSION: UNDEFINED
STANDARD_VERSION: 1996 12
METADATA_DATE: 1997 5 20
DATA_FILE_SIZE: 42813225
BYTE_COUNT: 5535
