FILENAME: O4811417.NWS.49149.tif
QUADRANGLE_NAME: EDNA MOUNTAIN
QUADRANT: NW
WEST_LONGITUDE: -115 0 0.00000
EAST_LONGITUDE: -114 56 15.00000
NORTH_LATITUDE: 48 45 0.00000
SOUTH_LATITUDE: 48 41 15.00000
PRODUCTION_DATE: 1994 11 4
RASTER_ORDER: LEFT_RIGHT/TOP_BOTTOM
BAND_ORGANIZATION: SINGLE FILE
BAND_CONTENT: BLACK&WHITE
BAND_CONTENT: UNDEFINED
BAND_CONTENT: UNDEFINED
BITS_PER_PIXEL: 8
SAMPLES_AND_LINES: 5458 7679
HORIZONTAL_DATUM: NAD83
HORIZONTAL_COORDINATE_SYSTEM: UTM
COORDINATE_ZONE: 11
HORIZONTAL_UNITS: METERS
HORIZONTAL_RESOLUTION: 1.00000
SECONDARY_HORIZONTAL_DATUM: NAD27
XY_ORIGIN: 646637.00000 5402018.00000
SECONDARY_XY_ORIGIN: 646714.83200 5401805.05800
NATION: US
STATE: MT
NW_QUAD_CORNER_XY: 647011.92100 5401594.54300
NE_QUAD_CORNER_XY: 651605.79100 5401717.04000
SE_QUAD_CORNERY_XY: 651793.79500 5394770.13100
SW_QUAD_CORNER_XY: 647194.22500 5394647.59900
SECONDARY_NW_QUAD_XY: 647016.62000 5401375.60600
SECONDARY_NE_QUAD_XY: 651610.63600 5401498.10800
SECONDARY_SE_QUAD_XY: 651798.64000 5394551.20400
SECONDARY_SW_QUAD_XY: 647198.92300 5394428.66800
RMSE_XY: 3.80000
IMAGE_SOURCE: BLACK AND WHITE FILM
SOURCE_IMAGE_ID: NAPP 2642 056
SOURCE_IMAGE_DATE: 1990 7 17
SOURCE_DEM_DATE: 1994 11 4
AGENCY: WESTERN MAPPING CENTER (WMC)
PRODUCER: Science Applications International
PRODUCTION_SYSTEM: GIS/MAGIC
COMPRESSION: UNDEFINED
STANDARD_VERSION: 1996 12
METADATA_DATE: 1997 7 27
DATA_FILE_SIZE: 41917440
BYTE_COUNT: 5458
