FILENAME: O4811418.SWS.49014.tif
QUADRANGLE_NAME: STRYKER
QUADRANT: SW
WEST_LONGITUDE: -114 52 30.00000
EAST_LONGITUDE: -114 48 45.00000
NORTH_LATITUDE: 48 41 15.00000
SOUTH_LATITUDE: 48 37 30.00000
PRODUCTION_DATE: 1994 10 13
RASTER_ORDER: LEFT_RIGHT/TOP_BOTTOM
BAND_ORGANIZATION: SINGLE FILE
BAND_CONTENT: BLACK&WHITE
BAND_CONTENT: UNDEFINED
BAND_CONTENT: UNDEFINED
BITS_PER_PIXEL: 8
SAMPLES_AND_LINES: 5475 7686
HORIZONTAL_DATUM: NAD83
HORIZONTAL_COORDINATE_SYSTEM: UTM
COORDINATE_ZONE: 11
HORIZONTAL_UNITS: METERS
HORIZONTAL_RESOLUTION: 1.00000
SECONDARY_HORIZONTAL_DATUM: NAD27
XY_ORIGIN: 656019.00000 5395327.00000
SECONDARY_XY_ORIGIN: 656096.72000 5395114.08000
NATION: US
STATE: MT
NW_QUAD_CORNER_XY: 656393.34200 5394896.43600
NE_QUAD_CORNER_XY: 660992.86600 5395026.51400
SE_QUAD_CORNERY_XY: 661192.08000 5388079.74200
SW_QUAD_CORNER_XY: 656586.86100 5387949.62800
SECONDARY_NW_QUAD_XY: 656398.33400 5394677.51300
SECONDARY_NE_QUAD_XY: 660998.00400 5394807.59500
SECONDARY_SE_QUAD_XY: 661197.21900 5387860.82900
SECONDARY_SW_QUAD_XY: 656591.85200 5387730.71100
RMSE_XY: 0.60000
IMAGE_SOURCE: BLACK AND WHITE FILM
SOURCE_IMAGE_ID: NAPP 2644 066
SOURCE_IMAGE_DATE: 1990 8 6
SOURCE_DEM_DATE: 1994 10 13
AGENCY: WESTERN MAPPING CENTER (WMC)
PRODUCER: Science Applications International
PRODUCTION_SYSTEM: GIS/MAGIC
COMPRESSION: UNDEFINED
STANDARD_VERSION: 1996 12
METADATA_DATE: 1997 7 16
DATA_FILE_SIZE: 42086325
BYTE_COUNT: 5475
