FILENAME: O4811418.SES.49013.tif
QUADRANGLE_NAME: STRYKER
QUADRANT: SE
WEST_LONGITUDE: -114 48 45.00000
EAST_LONGITUDE: -114 45 0.00000
NORTH_LATITUDE: 48 41 15.00000
SOUTH_LATITUDE: 48 37 30.00000
PRODUCTION_DATE: 1994 10 13
RASTER_ORDER: LEFT_RIGHT/TOP_BOTTOM
BAND_ORGANIZATION: SINGLE FILE
BAND_CONTENT: BLACK&WHITE
BAND_CONTENT: UNDEFINED
BAND_CONTENT: UNDEFINED
BITS_PER_PIXEL: 8
SAMPLES_AND_LINES: 5480 7690
HORIZONTAL_DATUM: NAD83
HORIZONTAL_COORDINATE_SYSTEM: UTM
COORDINATE_ZONE: 11
HORIZONTAL_UNITS: METERS
HORIZONTAL_RESOLUTION: 1.00000
SECONDARY_HORIZONTAL_DATUM: NAD27
XY_ORIGIN: 660619.00000 5395461.00000
SECONDARY_XY_ORIGIN: 660696.68800 5395248.05700
NATION: US
STATE: MT
NW_QUAD_CORNER_XY: 660992.86600 5395026.51400
NE_QUAD_CORNER_XY: 665592.36400 5395160.36600
SE_QUAD_CORNERY_XY: 665797.27600 5388213.63100
SW_QUAD_CORNER_XY: 661192.08000 5388079.74200
SECONDARY_NW_QUAD_XY: 660998.00400 5394807.59500
SECONDARY_NE_QUAD_XY: 665597.65000 5394941.45100
SECONDARY_SE_QUAD_XY: 665802.56100 5387994.72200
SECONDARY_SW_QUAD_XY: 661197.21900 5387860.82900
RMSE_XY: 1.40000
IMAGE_SOURCE: BLACK AND WHITE FILM
SOURCE_IMAGE_ID: NAPP 5693 007
SOURCE_IMAGE_DATE: 1991 9 4
SOURCE_DEM_DATE: 1994 10 13
AGENCY: WESTERN MAPPING CENTER (WMC)
PRODUCER: Science Applications International
PRODUCTION_SYSTEM: GIS/MAGIC
COMPRESSION: UNDEFINED
STANDARD_VERSION: 1996 12
METADATA_DATE: 1997 7 16
DATA_FILE_SIZE: 42146680
BYTE_COUNT: 5480
