FILENAME: O4811419.NES.48828.tif
QUADRANGLE_NAME: BULL LAKE
QUADRANT: NE
WEST_LONGITUDE: -114 41 15.00000
EAST_LONGITUDE: -114 37 30.00000
NORTH_LATITUDE: 48 45 0.00000
SOUTH_LATITUDE: 48 41 15.00000
PRODUCTION_DATE: 1994 10 13
RASTER_ORDER: LEFT_RIGHT/TOP_BOTTOM
BAND_ORGANIZATION: SINGLE FILE
BAND_CONTENT: BLACK&WHITE
BAND_CONTENT: UNDEFINED
BAND_CONTENT: UNDEFINED
BITS_PER_PIXEL: 8
SAMPLES_AND_LINES: 5486 7697
HORIZONTAL_DATUM: NAD83
HORIZONTAL_COORDINATE_SYSTEM: UTM
COORDINATE_ZONE: 11
HORIZONTAL_UNITS: METERS
HORIZONTAL_RESOLUTION: 1.00000
SECONDARY_HORIZONTAL_DATUM: NAD27
XY_ORIGIN: 669607.00000 5402687.00000
SECONDARY_XY_ORIGIN: 669684.68900 5402473.95100
NATION: US
STATE: MT
NW_QUAD_CORNER_XY: 669981.02600 5402244.75100
NE_QUAD_CORNER_XY: 674574.77000 5402386.11100
SE_QUAD_CORNERY_XY: 674791.28500 5395439.39100
SW_QUAD_CORNER_XY: 670191.83800 5395297.99100
SECONDARY_NW_QUAD_XY: 669986.45800 5402025.83600
SECONDARY_NE_QUAD_XY: 674580.35000 5402167.20000
SECONDARY_SE_QUAD_XY: 674796.86400 5395220.48500
SECONDARY_SW_QUAD_XY: 670197.27000 5395079.08100
RMSE_XY: 2.40000
IMAGE_SOURCE: BLACK AND WHITE FILM
SOURCE_IMAGE_ID: NAPP 2663 040
SOURCE_IMAGE_DATE: 1991 9 4
SOURCE_DEM_DATE: 1994 10 13
AGENCY: WESTERN MAPPING CENTER (WMC)
PRODUCER: Science Applications International
PRODUCTION_SYSTEM: GIS/MAGIC
COMPRESSION: UNDEFINED
STANDARD_VERSION: 1996 12
METADATA_DATE: 1997 7 27
DATA_FILE_SIZE: 42231228
BYTE_COUNT: 5486
