FILENAME: O4811420.SWS.48627.tif
QUADRANGLE_NAME: UPPER WHITEFISH LAKE
QUADRANT: SW
WEST_LONGITUDE: -114 37 30.00000
EAST_LONGITUDE: -114 33 45.00000
NORTH_LATITUDE: 48 41 15.00000
SOUTH_LATITUDE: 48 37 30.00000
PRODUCTION_DATE: 1994 10 13
RASTER_ORDER: LEFT_RIGHT/TOP_BOTTOM
BAND_ORGANIZATION: SINGLE FILE
BAND_CONTENT: BLACK&WHITE
BAND_CONTENT: UNDEFINED
BAND_CONTENT: UNDEFINED
BITS_PER_PIXEL: 8
SAMPLES_AND_LINES: 5496 7701
HORIZONTAL_DATUM: NAD83
HORIZONTAL_COORDINATE_SYSTEM: UTM
COORDINATE_ZONE: 11
HORIZONTAL_UNITS: METERS
HORIZONTAL_RESOLUTION: 1.00000
SECONDARY_HORIZONTAL_DATUM: NAD27
XY_ORIGIN: 674418.00000 5395885.00000
SECONDARY_XY_ORIGIN: 674495.66400 5395672.02900
NATION: US
STATE: MT
NW_QUAD_CORNER_XY: 674791.28500 5395439.39100
NE_QUAD_CORNER_XY: 679390.70600 5395584.56400
SE_QUAD_CORNERY_XY: 679612.71000 5388637.94700
SW_QUAD_CORNER_XY: 675007.59100 5388492.73300
SECONDARY_NW_QUAD_XY: 674796.86400 5395220.48500
SECONDARY_NE_QUAD_XY: 679396.43200 5395365.66300
SECONDARY_SE_QUAD_XY: 679618.43500 5388419.05200
SECONDARY_SW_QUAD_XY: 675013.17000 5388273.83300
RMSE_XY: 2.90000
IMAGE_SOURCE: BLACK AND WHITE FILM
SOURCE_IMAGE_ID: NAPP 2664 008
SOURCE_IMAGE_DATE: 1991 9 4
SOURCE_DEM_DATE: 1994 10 13
AGENCY: WESTERN MAPPING CENTER (WMC)
PRODUCER: Science Applications International
PRODUCTION_SYSTEM: GIS/MAGIC
COMPRESSION: UNDEFINED
STANDARD_VERSION: 1996 12
METADATA_DATE: 1997 7 16
DATA_FILE_SIZE: 42330192
BYTE_COUNT: 5496
