FILENAME: O4811423.SES.48182.tif
QUADRANGLE_NAME: DEMERS RIDGE
QUADRANT: SE
WEST_LONGITUDE: -114 11 15.00000
EAST_LONGITUDE: -114 7 30.00000
NORTH_LATITUDE: 48 41 15.00000
SOUTH_LATITUDE: 48 37 30.00000
PRODUCTION_DATE: 1994 10 13
RASTER_ORDER: LEFT_RIGHT/TOP_BOTTOM
BAND_ORGANIZATION: SINGLE FILE
BAND_CONTENT: BLACK&WHITE
BAND_CONTENT: UNDEFINED
BAND_CONTENT: UNDEFINED
BITS_PER_PIXEL: 8
SAMPLES_AND_LINES: 5535 7727
HORIZONTAL_DATUM: NAD83
HORIZONTAL_COORDINATE_SYSTEM: UTM
COORDINATE_ZONE: 11
HORIZONTAL_UNITS: METERS
HORIZONTAL_RESOLUTION: 1.00000
SECONDARY_HORIZONTAL_DATUM: NAD27
XY_ORIGIN: 706614.00000 5397007.00000
SECONDARY_XY_ORIGIN: 706691.49700 5396794.08600
NATION: US
STATE: MT
NW_QUAD_CORNER_XY: 706986.63300 5396534.87900
NE_QUAD_CORNER_XY: 711585.84800 5396706.48000
SE_QUAD_CORNERY_XY: 711847.74800 5389760.17600
SW_QUAD_CORNER_XY: 707242.83300 5389588.52700
SECONDARY_NW_QUAD_XY: 706993.24000 5396316.00800
SECONDARY_NE_QUAD_XY: 711592.60200 5396487.61500
SECONDARY_SE_QUAD_XY: 711854.50200 5389541.31700
SECONDARY_SW_QUAD_XY: 707249.44000 5389369.66200
RMSE_XY: 2.00000
IMAGE_SOURCE: BLACK AND WHITE FILM
SOURCE_IMAGE_ID: NAPP 2662 050
SOURCE_IMAGE_DATE: 1991 8 30
SOURCE_DEM_DATE: 1994 10 13
AGENCY: WESTERN MAPPING CENTER (WMC)
PRODUCER: Science Applications International
PRODUCTION_SYSTEM: GIS/MAGIC
COMPRESSION: UNDEFINED
STANDARD_VERSION: 1996 12
METADATA_DATE: 1997 7 27
DATA_FILE_SIZE: 42774480
BYTE_COUNT: 5535
