FILENAME: O4811423.NES.48180.tif
QUADRANGLE_NAME: DEMERS RIDGE
QUADRANT: NE
WEST_LONGITUDE: -114 11 15.00000
EAST_LONGITUDE: -114 7 30.00000
NORTH_LATITUDE: 48 45 0.00000
SOUTH_LATITUDE: 48 41 15.00000
PRODUCTION_DATE: 1994 10 13
RASTER_ORDER: LEFT_RIGHT/TOP_BOTTOM
BAND_ORGANIZATION: SINGLE FILE
BAND_CONTENT: BLACK&WHITE
BAND_CONTENT: UNDEFINED
BAND_CONTENT: UNDEFINED
BITS_PER_PIXEL: 8
SAMPLES_AND_LINES: 5529 7727
HORIZONTAL_DATUM: NAD83
HORIZONTAL_COORDINATE_SYSTEM: UTM
COORDINATE_ZONE: 11
HORIZONTAL_UNITS: METERS
HORIZONTAL_RESOLUTION: 1.00000
SECONDARY_HORIZONTAL_DATUM: NAD27
XY_ORIGIN: 706358.00000 5403953.00000
SECONDARY_XY_ORIGIN: 706435.51100 5403739.95500
NATION: US
STATE: MT
NW_QUAD_CORNER_XY: 706730.18600 5403481.28900
NE_QUAD_CORNER_XY: 711323.69400 5403652.84100
SE_QUAD_CORNERY_XY: 711585.84800 5396706.48000
SW_QUAD_CORNER_XY: 706986.63300 5396534.87900
SECONDARY_NW_QUAD_XY: 706736.79300 5403262.41300
SECONDARY_NE_QUAD_XY: 711330.44800 5403433.97100
SECONDARY_SE_QUAD_XY: 711592.60200 5396487.61500
SECONDARY_SW_QUAD_XY: 706993.24000 5396316.00800
RMSE_XY: 1.50000
IMAGE_SOURCE: BLACK AND WHITE FILM
SOURCE_IMAGE_ID: NAPP 2662 048
SOURCE_IMAGE_DATE: 1991 8 30
SOURCE_DEM_DATE: 1994 10 13
AGENCY: WESTERN MAPPING CENTER (WMC)
PRODUCER: Science Applications International
PRODUCTION_SYSTEM: GIS/MAGIC
COMPRESSION: UNDEFINED
STANDARD_VERSION: 1996 12
METADATA_DATE: 1997 7 27
DATA_FILE_SIZE: 42728112
BYTE_COUNT: 5529
