FILENAME: O4811424.SWS.48058.tif
QUADRANGLE_NAME: CAMAS RIDGE WEST
QUADRANT: SW
WEST_LONGITUDE: -114 7 30.00000
EAST_LONGITUDE: -114 3 45.00000
NORTH_LATITUDE: 48 41 15.00000
SOUTH_LATITUDE: 48 37 30.00000
PRODUCTION_DATE: 1994 11 4
RASTER_ORDER: LEFT_RIGHT/TOP_BOTTOM
BAND_ORGANIZATION: SINGLE FILE
BAND_CONTENT: BLACK&WHITE
BAND_CONTENT: UNDEFINED
BAND_CONTENT: UNDEFINED
BITS_PER_PIXEL: 8
SAMPLES_AND_LINES: 5540 7730
HORIZONTAL_DATUM: NAD83
HORIZONTAL_COORDINATE_SYSTEM: UTM
COORDINATE_ZONE: 11
HORIZONTAL_UNITS: METERS
HORIZONTAL_RESOLUTION: 1.00000
SECONDARY_HORIZONTAL_DATUM: NAD27
XY_ORIGIN: 711214.00000 5397182.00000
SECONDARY_XY_ORIGIN: 711291.45200 5396969.09500
NATION: US
STATE: MT
NW_QUAD_CORNER_XY: 711585.84800 5396706.48000
NE_QUAD_CORNER_XY: 716185.03000 5396881.85800
SE_QUAD_CORNERY_XY: 716452.63200 5389935.60300
SW_QUAD_CORNER_XY: 711847.74800 5389760.17600
SECONDARY_NW_QUAD_XY: 711592.60200 5396487.61500
SECONDARY_NE_QUAD_XY: 716191.93100 5396662.99800
SECONDARY_SE_QUAD_XY: 716459.53300 5389716.74900
SECONDARY_SW_QUAD_XY: 711854.50200 5389541.31700
RMSE_XY: 1.10000
IMAGE_SOURCE: BLACK AND WHITE FILM
SOURCE_IMAGE_ID: NAPP 2662 034
SOURCE_IMAGE_DATE: 1991 8 30
SOURCE_DEM_DATE: 1994 11 4
AGENCY: WESTERN MAPPING CENTER (WMC)
PRODUCER: Science Applications International
PRODUCTION_SYSTEM: GIS/MAGIC
COMPRESSION: UNDEFINED
STANDARD_VERSION: 1996 12
METADATA_DATE: 1997 7 16
DATA_FILE_SIZE: 42829740
BYTE_COUNT: 5540
