FILENAME: O4811424.NES.48055.tif
QUADRANGLE_NAME: CAMAS RIDGE WEST
QUADRANT: NE
WEST_LONGITUDE: -114 3 45.00000
EAST_LONGITUDE: -114 0 0.00000
NORTH_LATITUDE: 48 45 0.00000
SOUTH_LATITUDE: 48 41 15.00000
PRODUCTION_DATE: 1995 5 4
RASTER_ORDER: LEFT_RIGHT/TOP_BOTTOM
BAND_ORGANIZATION: SINGLE FILE
BAND_CONTENT: BLACK&WHITE
BAND_CONTENT: UNDEFINED
BAND_CONTENT: UNDEFINED
BITS_PER_PIXEL: 8
SAMPLES_AND_LINES: 5541 7735
HORIZONTAL_DATUM: NAD83
HORIZONTAL_COORDINATE_SYSTEM: UTM
COORDINATE_ZONE: 11
HORIZONTAL_UNITS: METERS
HORIZONTAL_RESOLUTION: 1.00000
SECONDARY_HORIZONTAL_DATUM: NAD27
XY_ORIGIN: 715545.00000 5404308.00000
SECONDARY_XY_ORIGIN: 715622.44500 5404094.94600
NATION: US
STATE: MT
NW_QUAD_CORNER_XY: 715917.17000 5403828.16900
NE_QUAD_CORNER_XY: 720510.61100 5404007.27300
SE_QUAD_CORNERY_XY: 720784.18000 5397061.01300
SW_QUAD_CORNER_XY: 716185.03000 5396881.85800
SECONDARY_NW_QUAD_XY: 715924.07000 5403609.30400
SECONDARY_NE_QUAD_XY: 720517.65900 5403788.41400
SECONDARY_SE_QUAD_XY: 720791.22700 5396842.15900
SECONDARY_SW_QUAD_XY: 716191.93100 5396662.99800
RMSE_XY: 1.40000
IMAGE_SOURCE: BLACK AND WHITE FILM
SOURCE_IMAGE_ID: NAPP 1661 88
SOURCE_IMAGE_DATE: 1991 8 26
SOURCE_IMAGE_ID: NAPP 1661 1661
SOURCE_IMAGE_DATE: 1991 8 26
SOURCE_IMAGE_ID: NAPP 1661 77
SOURCE_IMAGE_DATE: 1991 8 26
SOURCE_DEM_DATE: 1995 5 4
AGENCY: WESTERN MAPPING CENTER (WMC)
PRODUCER: Science Applications International
PRODUCTION_SYSTEM: GIS/MAGIC
COMPRESSION: UNDEFINED
STANDARD_VERSION: 1996 12
METADATA_DATE: 1997 5 20
DATA_FILE_SIZE: 42865176
BYTE_COUNT: 5541
