FILENAME: O4811425.SWS.49155.tif
QUADRANGLE_NAME: SKILLET MOUNTAIN
QUADRANT: SW
WEST_LONGITUDE: -115 0 0.00000
EAST_LONGITUDE: -114 56 15.00000
NORTH_LATITUDE: 48 33 45.00000
SOUTH_LATITUDE: 48 30 0.00000
PRODUCTION_DATE: 1994 10 13
RASTER_ORDER: LEFT_RIGHT/TOP_BOTTOM
BAND_ORGANIZATION: SINGLE FILE
BAND_CONTENT: BLACK&WHITE
BAND_CONTENT: UNDEFINED
BAND_CONTENT: UNDEFINED
BITS_PER_PIXEL: 8
SAMPLES_AND_LINES: 5474 7679
HORIZONTAL_DATUM: NAD83
HORIZONTAL_COORDINATE_SYSTEM: UTM
COORDINATE_ZONE: 11
HORIZONTAL_UNITS: METERS
HORIZONTAL_RESOLUTION: 1.00000
SECONDARY_HORIZONTAL_DATUM: NAD27
XY_ORIGIN: 647184.00000 5381177.00000
SECONDARY_XY_ORIGIN: 647261.69200 5380964.26500
NATION: US
STATE: MT
NW_QUAD_CORNER_XY: 647558.30300 5380753.91100
NE_QUAD_CORNER_XY: 652169.25900 5380876.51100
SE_QUAD_CORNERY_XY: 652356.71700 5373929.79900
SW_QUAD_CORNER_XY: 647740.07700 5373807.16700
SECONDARY_NW_QUAD_XY: 647563.00100 5380534.99200
SECONDARY_NE_QUAD_XY: 652174.10300 5380657.59600
SECONDARY_SE_QUAD_XY: 652361.56100 5373710.89200
SECONDARY_SW_QUAD_XY: 647744.77500 5373588.25600
RMSE_XY: 1.60000
IMAGE_SOURCE: BLACK AND WHITE FILM
SOURCE_IMAGE_ID: NAPP 2642 050
SOURCE_IMAGE_DATE: 1990 7 17
SOURCE_DEM_DATE: 1994 10 13
AGENCY: WESTERN MAPPING CENTER (WMC)
PRODUCER: Science Applications International
PRODUCTION_SYSTEM: GIS/MAGIC
COMPRESSION: UNDEFINED
STANDARD_VERSION: 1996 12
METADATA_DATE: 1997 7 27
DATA_FILE_SIZE: 42040320
BYTE_COUNT: 5474
