FILENAME: O4811426.NWS.49016.tif
QUADRANGLE_NAME: SUNDAY MOUNTAIN
QUADRANT: NW
WEST_LONGITUDE: -114 52 30.00000
EAST_LONGITUDE: -114 48 45.00000
NORTH_LATITUDE: 48 37 30.00000
SOUTH_LATITUDE: 48 33 45.00000
PRODUCTION_DATE: 1994 10 13
RASTER_ORDER: LEFT_RIGHT/TOP_BOTTOM
BAND_ORGANIZATION: SINGLE FILE
BAND_CONTENT: BLACK&WHITE
BAND_CONTENT: UNDEFINED
BAND_CONTENT: UNDEFINED
BITS_PER_PIXEL: 8
SAMPLES_AND_LINES: 5480 7686
HORIZONTAL_DATUM: NAD83
HORIZONTAL_COORDINATE_SYSTEM: UTM
COORDINATE_ZONE: 11
HORIZONTAL_UNITS: METERS
HORIZONTAL_RESOLUTION: 1.00000
SECONDARY_HORIZONTAL_DATUM: NAD27
XY_ORIGIN: 656213.00000 5388380.00000
SECONDARY_XY_ORIGIN: 656290.68300 5388167.15200
NATION: US
STATE: MT
NW_QUAD_CORNER_XY: 656586.86100 5387949.62800
NE_QUAD_CORNER_XY: 661192.08000 5388079.74200
SE_QUAD_CORNERY_XY: 661391.10200 5381133.03500
SW_QUAD_CORNER_XY: 656780.19200 5381002.88500
SECONDARY_NW_QUAD_XY: 656591.85200 5387730.71100
SECONDARY_NE_QUAD_XY: 661197.21900 5387860.82900
SECONDARY_SE_QUAD_XY: 661396.24000 5380914.12900
SECONDARY_SW_QUAD_XY: 656785.18300 5380783.97500
RMSE_XY: 1.20000
IMAGE_SOURCE: BLACK AND WHITE FILM
SOURCE_IMAGE_ID: NAPP 2644 064
SOURCE_IMAGE_DATE: 1990 8 6
SOURCE_DEM_DATE: 1994 10 13
AGENCY: WESTERN MAPPING CENTER (WMC)
PRODUCER: Science Applications International
PRODUCTION_SYSTEM: GIS/MAGIC
COMPRESSION: UNDEFINED
STANDARD_VERSION: 1996 12
METADATA_DATE: 1997 7 27
DATA_FILE_SIZE: 42124760
BYTE_COUNT: 5480
