FILENAME: O4811426.NES.49015.tif
QUADRANGLE_NAME: SUNDAY MOUNTAIN
QUADRANT: NE
WEST_LONGITUDE: -114 48 45.00000
EAST_LONGITUDE: -114 45 0.00000
NORTH_LATITUDE: 48 37 30.00000
SOUTH_LATITUDE: 48 33 45.00000
PRODUCTION_DATE: 1994 10 13
RASTER_ORDER: LEFT_RIGHT/TOP_BOTTOM
BAND_ORGANIZATION: SINGLE FILE
BAND_CONTENT: BLACK&WHITE
BAND_CONTENT: UNDEFINED
BAND_CONTENT: UNDEFINED
BITS_PER_PIXEL: 8
SAMPLES_AND_LINES: 5485 7690
HORIZONTAL_DATUM: NAD83
HORIZONTAL_COORDINATE_SYSTEM: UTM
COORDINATE_ZONE: 11
HORIZONTAL_UNITS: METERS
HORIZONTAL_RESOLUTION: 1.00000
SECONDARY_HORIZONTAL_DATUM: NAD27
XY_ORIGIN: 660818.00000 5388514.00000
SECONDARY_XY_ORIGIN: 660895.65500 5388301.13000
NATION: US
STATE: MT
NW_QUAD_CORNER_XY: 661192.08000 5388079.74200
NE_QUAD_CORNER_XY: 665797.27600 5388213.63100
SE_QUAD_CORNERY_XY: 666001.98800 5381266.96100
SW_QUAD_CORNER_XY: 661391.10200 5381133.03500
SECONDARY_NW_QUAD_XY: 661197.21900 5387860.82900
SECONDARY_NE_QUAD_XY: 665802.56100 5387994.72200
SECONDARY_SE_QUAD_XY: 666007.27300 5381048.05800
SECONDARY_SW_QUAD_XY: 661396.24000 5380914.12900
RMSE_XY: 1.40000
IMAGE_SOURCE: BLACK AND WHITE FILM
SOURCE_IMAGE_ID: NAPP 2651 011
SOURCE_IMAGE_DATE: 1990 9 10
SOURCE_DEM_DATE: 1994 10 13
AGENCY: WESTERN MAPPING CENTER (WMC)
PRODUCER: Science Applications International
PRODUCTION_SYSTEM: GIS/MAGIC
COMPRESSION: UNDEFINED
STANDARD_VERSION: 1996 12
METADATA_DATE: 1997 7 27
DATA_FILE_SIZE: 42185135
BYTE_COUNT: 5485
