FILENAME: O4811427.NWS.48833.tif
QUADRANGLE_NAME: RADNOR
QUADRANT: NW
WEST_LONGITUDE: -114 45 0.00000
EAST_LONGITUDE: -114 41 15.00000
NORTH_LATITUDE: 48 37 30.00000
SOUTH_LATITUDE: 48 33 45.00000
PRODUCTION_DATE: 1994 10 13
RASTER_ORDER: LEFT_RIGHT/TOP_BOTTOM
BAND_ORGANIZATION: SINGLE FILE
BAND_CONTENT: BLACK&WHITE
BAND_CONTENT: UNDEFINED
BAND_CONTENT: UNDEFINED
BITS_PER_PIXEL: 8
SAMPLES_AND_LINES: 5491 7694
HORIZONTAL_DATUM: NAD83
HORIZONTAL_COORDINATE_SYSTEM: UTM
COORDINATE_ZONE: 11
HORIZONTAL_UNITS: METERS
HORIZONTAL_RESOLUTION: 1.00000
SECONDARY_HORIZONTAL_DATUM: NAD27
XY_ORIGIN: 665423.00000 5388652.00000
SECONDARY_XY_ORIGIN: 665500.62800 5388439.10500
NATION: US
STATE: MT
NW_QUAD_CORNER_XY: 665797.27600 5388213.63100
NE_QUAD_CORNER_XY: 670402.44600 5388351.29500
SE_QUAD_CORNERY_XY: 670612.85000 5381404.66200
SW_QUAD_CORNER_XY: 666001.98800 5381266.96100
SECONDARY_NW_QUAD_XY: 665802.56100 5387994.72200
SECONDARY_NE_QUAD_XY: 670407.87800 5388132.39000
SECONDARY_SE_QUAD_XY: 670618.28200 5381185.76400
SECONDARY_SW_QUAD_XY: 666007.27300 5381048.05800
RMSE_XY: 3.70000
IMAGE_SOURCE: BLACK AND WHITE FILM
SOURCE_IMAGE_ID: NAPP 2651 018
SOURCE_IMAGE_DATE: 1990 9 10
SOURCE_DEM_DATE: 1994 10 13
AGENCY: WESTERN MAPPING CENTER (WMC)
PRODUCER: Science Applications International
PRODUCTION_SYSTEM: GIS/MAGIC
COMPRESSION: UNDEFINED
STANDARD_VERSION: 1996 12
METADATA_DATE: 1997 7 15
DATA_FILE_SIZE: 42253245
BYTE_COUNT: 5491
